BEGIN:VCALENDAR
VERSION:2.0
PRODID:-//Scott Arboretum &amp; Gardens - ECPv6.9.0//NONSGML v1.0//EN
CALSCALE:GREGORIAN
METHOD:PUBLISH
X-ORIGINAL-URL:https://www.scottarboretum.org
X-WR-CALDESC:Events for Scott Arboretum &amp; Gardens
REFRESH-INTERVAL;VALUE=DURATION:PT1H
X-Robots-Tag:noindex
X-PUBLISHED-TTL:PT1H
BEGIN:VTIMEZONE
TZID:America/Detroit
BEGIN:DAYLIGHT
TZOFFSETFROM:-0500
TZOFFSETTO:-0400
TZNAME:EDT
DTSTART:20250309T070000
END:DAYLIGHT
BEGIN:STANDARD
TZOFFSETFROM:-0400
TZOFFSETTO:-0500
TZNAME:EST
DTSTART:20251102T060000
END:STANDARD
END:VTIMEZONE
BEGIN:VEVENT
DTSTART;TZID=America/Detroit:20250905T100000
DTEND;TZID=America/Detroit:20250905T104500
DTSTAMP:20260421T085017
CREATED:20250808T224547Z
LAST-MODIFIED:20251006T144829Z
UID:10001350-1757066400-1757069100@www.scottarboretum.org
SUMMARY:Nature Nook Fall Session
DESCRIPTION:Calling all little nature explorers! Join us at Scott Arboretum & Gardens for mornings full of singing\, stories\, crafts\, and dancing. Each session is seasonally themed around nature and the garden. This program is designed for children ages 2 to 4 years old.  \nRegistration Cost: \nMembers: Free \nNon-Members: $40 \nACCESS Cardholder: $2; call 610-328-8025 to register. \nDid you know a Family level membership to the Associates of Scott Arboretum & Gardens is only $55 and includes benefits for two adults and up to four children? Become a member of the Associates of the Scott Arboretum here.  \nSOLD OUT \nProgram Details \n\nRegistration is required and includes all 8 sessions. \nClass size is limited. \nRegistration for members includes participation for up to 4 children and up to 2 caregivers.\nRegistration for non-members includes one child and their caregiver. \nSessions will start in the Wister Center with a story and craft\, followed by a short walk to explore a garden.\nEmail us if you have accessibility needs for this program.\nFor more information\, review our program and event policies or call the Scott Arboretum office at 610-328-8025. 
URL:https://www.scottarboretum.org/calendar/nature-nook-fall-session/2025-09-05/
LOCATION:Wister Center – Gillespie Room\, 500 College Avenue\, Swarthmore\, PA\, United States
CATEGORIES:Classes,Family and Youth Activities,In-person Event
ATTACH;FMTTYPE=image/jpeg:https://www.scottarboretum.org/wp-content/uploads/2025/08/Nature-Nook-Fall-2025-600-by-400.jpg
END:VEVENT
BEGIN:VEVENT
DTSTART;TZID=America/Detroit:20250911T180000
DTEND;TZID=America/Detroit:20250911T193000
DTSTAMP:20260421T085017
CREATED:20250307T144523Z
LAST-MODIFIED:20250910T135729Z
UID:10001107-1757613600-1757619000@www.scottarboretum.org
SUMMARY:Horticultural Harmony: Exploring Éclat's Artisan Chocolates
DESCRIPTION:This program is rescheduled from Friday\, February 7. \nIndulge in a luxury chocolate tasting led by Master Chocolatier Christopher Curtin of award-winning Éclat Chocolate in West Chester\, Pa. Participants will receive a brief history of chocolate\, gain an understanding of Éclat’s creative process\, and sample seven artisanal chocolates. Snacks and alcoholic and non-alcoholic  beverage pairings will be served.  \nRegistration Cost:  \nMembers: $50 \nNon-Members: $60 \nBecome a member of the Associates of the Scott Arboretum here.  \nRegistration closed. \nProgram Details \n\nRegistration is required.\nClass size limited to 18.\nEmail us if you have accessibility needs for this program.\nFor more information\, review our program and event policies or call the Scott office at 610-328-8025. \n\nAbout the Presenter \nÉclat Chocolate’s founder and Master chocolatier Christopher Curtin set out from Madison\, Wisconsin\, to the House of le Compagnons du Devoir\, home of the premier guild of pastry chefs and artisans in France. It was here where he worked alongside the best journeyman pastry chefs in Europe\, and became the first American to be awarded the honor of German Pastry Chef and Chocolatier in Cologne\, Germany. \nImmersed in the realm of the World’s top chocolate makers\, Christopher continued to hone his skills in the finest chocolate houses of Belgium\, Switzerland\, France\, Germany and Japan. Here\, he had the privilege of sharing in the greatest of secrets and techniques—secrets and techniques that make Éclat Chocolate a unique experience you won’t soon forget.
URL:https://www.scottarboretum.org/calendar/horticultural-harmony-exploring-eclats-artisan-chocolates-2/
LOCATION:Wister Center – Gillespie Room\, 500 College Avenue\, Swarthmore\, PA\, United States
CATEGORIES:Classes,In-person Event
ATTACH;FMTTYPE=image/jpeg:https://www.scottarboretum.org/wp-content/uploads/2025/03/Horticultural-Harmony-Chocolate-Tasting-600-by-400.jpg
END:VEVENT
BEGIN:VEVENT
DTSTART;TZID=America/Detroit:20250912T100000
DTEND;TZID=America/Detroit:20250912T104500
DTSTAMP:20260421T085017
CREATED:20250808T224547Z
LAST-MODIFIED:20251006T144829Z
UID:10001379-1757671200-1757673900@www.scottarboretum.org
SUMMARY:Nature Nook Fall Session
DESCRIPTION:Calling all little nature explorers! Join us at Scott Arboretum & Gardens for mornings full of singing\, stories\, crafts\, and dancing. Each session is seasonally themed around nature and the garden. This program is designed for children ages 2 to 4 years old.  \nRegistration Cost: \nMembers: Free \nNon-Members: $40 \nACCESS Cardholder: $2; call 610-328-8025 to register. \nDid you know a Family level membership to the Associates of Scott Arboretum & Gardens is only $55 and includes benefits for two adults and up to four children? Become a member of the Associates of the Scott Arboretum here.  \nSOLD OUT \nProgram Details \n\nRegistration is required and includes all 8 sessions. \nClass size is limited. \nRegistration for members includes participation for up to 4 children and up to 2 caregivers.\nRegistration for non-members includes one child and their caregiver. \nSessions will start in the Wister Center with a story and craft\, followed by a short walk to explore a garden.\nEmail us if you have accessibility needs for this program.\nFor more information\, review our program and event policies or call the Scott Arboretum office at 610-328-8025. 
URL:https://www.scottarboretum.org/calendar/nature-nook-fall-session/2025-09-12/
LOCATION:Wister Center – Gillespie Room\, 500 College Avenue\, Swarthmore\, PA\, United States
CATEGORIES:Classes,Family and Youth Activities,In-person Event
ATTACH;FMTTYPE=image/jpeg:https://www.scottarboretum.org/wp-content/uploads/2025/08/Nature-Nook-Fall-2025-600-by-400.jpg
END:VEVENT
BEGIN:VEVENT
DTSTART;TZID=America/Detroit:20250919T100000
DTEND;TZID=America/Detroit:20250919T104500
DTSTAMP:20260421T085017
CREATED:20250808T224547Z
LAST-MODIFIED:20251006T144829Z
UID:10001380-1758276000-1758278700@www.scottarboretum.org
SUMMARY:Nature Nook Fall Session
DESCRIPTION:Calling all little nature explorers! Join us at Scott Arboretum & Gardens for mornings full of singing\, stories\, crafts\, and dancing. Each session is seasonally themed around nature and the garden. This program is designed for children ages 2 to 4 years old.  \nRegistration Cost: \nMembers: Free \nNon-Members: $40 \nACCESS Cardholder: $2; call 610-328-8025 to register. \nDid you know a Family level membership to the Associates of Scott Arboretum & Gardens is only $55 and includes benefits for two adults and up to four children? Become a member of the Associates of the Scott Arboretum here.  \nSOLD OUT \nProgram Details \n\nRegistration is required and includes all 8 sessions. \nClass size is limited. \nRegistration for members includes participation for up to 4 children and up to 2 caregivers.\nRegistration for non-members includes one child and their caregiver. \nSessions will start in the Wister Center with a story and craft\, followed by a short walk to explore a garden.\nEmail us if you have accessibility needs for this program.\nFor more information\, review our program and event policies or call the Scott Arboretum office at 610-328-8025. 
URL:https://www.scottarboretum.org/calendar/nature-nook-fall-session/2025-09-19/
LOCATION:Wister Center – Gillespie Room\, 500 College Avenue\, Swarthmore\, PA\, United States
CATEGORIES:Classes,Family and Youth Activities,In-person Event
ATTACH;FMTTYPE=image/jpeg:https://www.scottarboretum.org/wp-content/uploads/2025/08/Nature-Nook-Fall-2025-600-by-400.jpg
END:VEVENT
BEGIN:VEVENT
DTSTART;TZID=America/Detroit:20250926T100000
DTEND;TZID=America/Detroit:20250926T104500
DTSTAMP:20260421T085017
CREATED:20250808T224547Z
LAST-MODIFIED:20251006T144829Z
UID:10001381-1758880800-1758883500@www.scottarboretum.org
SUMMARY:Nature Nook Fall Session
DESCRIPTION:Calling all little nature explorers! Join us at Scott Arboretum & Gardens for mornings full of singing\, stories\, crafts\, and dancing. Each session is seasonally themed around nature and the garden. This program is designed for children ages 2 to 4 years old.  \nRegistration Cost: \nMembers: Free \nNon-Members: $40 \nACCESS Cardholder: $2; call 610-328-8025 to register. \nDid you know a Family level membership to the Associates of Scott Arboretum & Gardens is only $55 and includes benefits for two adults and up to four children? Become a member of the Associates of the Scott Arboretum here.  \nSOLD OUT \nProgram Details \n\nRegistration is required and includes all 8 sessions. \nClass size is limited. \nRegistration for members includes participation for up to 4 children and up to 2 caregivers.\nRegistration for non-members includes one child and their caregiver. \nSessions will start in the Wister Center with a story and craft\, followed by a short walk to explore a garden.\nEmail us if you have accessibility needs for this program.\nFor more information\, review our program and event policies or call the Scott Arboretum office at 610-328-8025. 
URL:https://www.scottarboretum.org/calendar/nature-nook-fall-session/2025-09-26/
LOCATION:Wister Center – Gillespie Room\, 500 College Avenue\, Swarthmore\, PA\, United States
CATEGORIES:Classes,Family and Youth Activities,In-person Event
ATTACH;FMTTYPE=image/jpeg:https://www.scottarboretum.org/wp-content/uploads/2025/08/Nature-Nook-Fall-2025-600-by-400.jpg
END:VEVENT
END:VCALENDAR