BEGIN:VCALENDAR
VERSION:2.0
PRODID:-//Scott Arboretum &amp; Gardens - ECPv6.9.0//NONSGML v1.0//EN
CALSCALE:GREGORIAN
METHOD:PUBLISH
X-WR-CALNAME:Scott Arboretum &amp; Gardens
X-ORIGINAL-URL:https://www.scottarboretum.org
X-WR-CALDESC:Events for Scott Arboretum &amp; Gardens
REFRESH-INTERVAL;VALUE=DURATION:PT1H
X-Robots-Tag:noindex
X-PUBLISHED-TTL:PT1H
BEGIN:VTIMEZONE
TZID:America/Detroit
BEGIN:DAYLIGHT
TZOFFSETFROM:-0500
TZOFFSETTO:-0400
TZNAME:EDT
DTSTART:20250309T070000
END:DAYLIGHT
BEGIN:STANDARD
TZOFFSETFROM:-0400
TZOFFSETTO:-0500
TZNAME:EST
DTSTART:20251102T060000
END:STANDARD
END:VTIMEZONE
BEGIN:VEVENT
DTSTART;TZID=America/Detroit:20251003T100000
DTEND;TZID=America/Detroit:20251003T104500
DTSTAMP:20260421T072726
CREATED:20250808T224547Z
LAST-MODIFIED:20251006T144829Z
UID:10001382-1759485600-1759488300@www.scottarboretum.org
SUMMARY:Nature Nook Fall Session
DESCRIPTION:Calling all little nature explorers! Join us at Scott Arboretum & Gardens for mornings full of singing\, stories\, crafts\, and dancing. Each session is seasonally themed around nature and the garden. This program is designed for children ages 2 to 4 years old.  \nRegistration Cost: \nMembers: Free \nNon-Members: $40 \nACCESS Cardholder: $2; call 610-328-8025 to register. \nDid you know a Family level membership to the Associates of Scott Arboretum & Gardens is only $55 and includes benefits for two adults and up to four children? Become a member of the Associates of the Scott Arboretum here.  \nSOLD OUT \nProgram Details \n\nRegistration is required and includes all 8 sessions. \nClass size is limited. \nRegistration for members includes participation for up to 4 children and up to 2 caregivers.\nRegistration for non-members includes one child and their caregiver. \nSessions will start in the Wister Center with a story and craft\, followed by a short walk to explore a garden.\nEmail us if you have accessibility needs for this program.\nFor more information\, review our program and event policies or call the Scott Arboretum office at 610-328-8025. 
URL:https://www.scottarboretum.org/calendar/nature-nook-fall-session/2025-10-03/
LOCATION:Wister Center – Gillespie Room\, 500 College Avenue\, Swarthmore\, PA\, United States
CATEGORIES:Classes,Family and Youth Activities,In-person Event
ATTACH;FMTTYPE=image/jpeg:https://www.scottarboretum.org/wp-content/uploads/2025/08/Nature-Nook-Fall-2025-600-by-400.jpg
END:VEVENT
BEGIN:VEVENT
DTSTART;TZID=America/Detroit:20251010T100000
DTEND;TZID=America/Detroit:20251010T104500
DTSTAMP:20260421T072726
CREATED:20250808T224547Z
LAST-MODIFIED:20251006T144829Z
UID:10001383-1760090400-1760093100@www.scottarboretum.org
SUMMARY:Nature Nook Fall Session
DESCRIPTION:Calling all little nature explorers! Join us at Scott Arboretum & Gardens for mornings full of singing\, stories\, crafts\, and dancing. Each session is seasonally themed around nature and the garden. This program is designed for children ages 2 to 4 years old.  \nRegistration Cost: \nMembers: Free \nNon-Members: $40 \nACCESS Cardholder: $2; call 610-328-8025 to register. \nDid you know a Family level membership to the Associates of Scott Arboretum & Gardens is only $55 and includes benefits for two adults and up to four children? Become a member of the Associates of the Scott Arboretum here.  \nSOLD OUT \nProgram Details \n\nRegistration is required and includes all 8 sessions. \nClass size is limited. \nRegistration for members includes participation for up to 4 children and up to 2 caregivers.\nRegistration for non-members includes one child and their caregiver. \nSessions will start in the Wister Center with a story and craft\, followed by a short walk to explore a garden.\nEmail us if you have accessibility needs for this program.\nFor more information\, review our program and event policies or call the Scott Arboretum office at 610-328-8025. 
URL:https://www.scottarboretum.org/calendar/nature-nook-fall-session/2025-10-10/
LOCATION:Wister Center – Gillespie Room\, 500 College Avenue\, Swarthmore\, PA\, United States
CATEGORIES:Classes,Family and Youth Activities,In-person Event
ATTACH;FMTTYPE=image/jpeg:https://www.scottarboretum.org/wp-content/uploads/2025/08/Nature-Nook-Fall-2025-600-by-400.jpg
END:VEVENT
BEGIN:VEVENT
DTSTART;TZID=America/Detroit:20251011T100000
DTEND;TZID=America/Detroit:20251011T120000
DTSTAMP:20260421T072726
CREATED:20250808T225327Z
LAST-MODIFIED:20251003T132029Z
UID:10001359-1760176800-1760184000@www.scottarboretum.org
SUMMARY:Harvest Hues Floral Arranging Workshop
DESCRIPTION:This program is part of the Delco ARTS Week celebration. \nImmerse yourself in the rich tones of autumn during this inspiring flower arranging class led by the award-winning florist\, Tissa from Tissarose Florist. Using seasonal blooms and foliage\, including a selection from Scott Arboretum & Gardens\, Tissa will lead a demonstration on how to create elegant arrangements that echo the warmth and beauty of fall’s changing colors. Participants will then create their own arrangement to take home. Registration includes all materials and supplies. \nRegistration Cost: (registration closes Oct. 3) \nMembers: $85 \nNon-Members: $95 \nACCESS Cardholder: $2; call 610-328-8025 to register. \n  \nBecome a member of the Scott Associates here.  \nCall 610-328-8024 to register.\n  \nProgram Details \n\nRegistration is required. \nRegistration closes October 3.\nClass is limited to 18 participants.\nEmail us if you have accessibility needs for this program.\nFor more information\, review our program and event policies or call the Scott office at 610-328-8025. \n\n  \nAbout the Presenter \nAfter turning a habit into a profitable career\, Tissarose has partnered with colleges and universities including Widener\, Haverford\, Drexel\, and Saint Joseph’s\, to provide fun and creative workshops and private parties to their students while giving them tips on how to express their personalities through floral design on their own. Along with her university partnerships\, Tissarose extends her services to the Philadelphia School District and charter schools in the Philadelphia area. Her collaboration with the school district is personally significant as a native of West Philadelphia and an alumnus of Lamberton High School. Being able to give inner-city students access to different activities is an important part of Tissarose’s mission and values.  \nTissarose is a multi-year participant in the Philadelphia Flower Show\, where she was featured in the floral design exhibit category and has received multiple medals for her design and participation. She was named Best Florist by Metro Philly in 2024. Tissarose also designed the rose arbor at the 2025 Scott Arboretum & Gardens Rose Celebration. \nAbout ACCESS \nScott Arboretum & Gardens proudly participates in the Art-Reach ACCESS program. Pennsylvania ACCESS/EBT cardholders\, and Art-Reach ACCESS cardholders may receive $2 tickets for the cardholder and up to 3 guests. This discount may not be valid for special events or sold out events\, or combined with other discount offers. Visitors must show their ACCESS card and valid photo ID on the day of the program. For more information about the ACCESS program\, please visit art-reach.org/access. 
URL:https://www.scottarboretum.org/calendar/harvest-hues-floral-arranging-workshop/
LOCATION:Wister Center – Gillespie Room\, 500 College Avenue\, Swarthmore\, PA\, United States
CATEGORIES:Classes,In-person Event
ATTACH;FMTTYPE=image/jpeg:https://www.scottarboretum.org/wp-content/uploads/2025/08/Harvest-Hues-October-2023-RHR-235-600-by-400.jpg
END:VEVENT
BEGIN:VEVENT
DTSTART;TZID=America/Detroit:20251023T093000
DTEND;TZID=America/Detroit:20251023T120000
DTSTAMP:20260421T072726
CREATED:20250808T225831Z
LAST-MODIFIED:20251022T182821Z
UID:10001361-1761211800-1761220800@www.scottarboretum.org
SUMMARY:Introduction to Garden Sustainability Class
DESCRIPTION:For the past several years\, Scott Arboretum & Gardens’ horticulturists have been exploring low-input gardening techniques and evaluating their long-term success in support of  Swarthmore College’s ambitious goal to be carbon neutral by 2035. Maintaining roses sustainably\, installing water-wise gravel gardens\, employing organic turf care\, and planting lawn alternatives are a few of the many concepts being implemented. Join Adam Glas\, Garden Supervisor\, to learn about practical\, real-world solutions for making a garden of any size more sustainable. Following the presentation\, Adam will lead a walk through the gardens to show these techniques in action.  \nThis course is eligible for the following CEUs: \n\n2 PCH\n2 SLC\n1.5 APLD\n\nRegistration Cost:  \nMembers: $35 \nNon-Members: $45 \nACCESS Cardholder: $2; call 610-328-8025 to register. \n\nBecome a member of the Scott Associates here.  \nRegistration Closed \n  \nProgram Details \n\nClass size limited to 20.\nRegistration is required.\nLight snacks and refreshments will be provided.\nThe garden walk portion of this workshop will take approximately 1 hour and may cross uneven\, unpaved surfaces.\nEmail us if you have accessibility needs for this program.\nFor more information\, review our program and event policies or call the Scott office at 610-328-8025. \n\n  \nAbout the Presenter \nAdam Glas\, Gardener Supervisor\, joined the Scott Arboretum & Gardens staff in 2012. Before that\, he worked as Nursery Manager at Terrain (at Styer’s) Nursery in Glen Mills. He was accepted into the Longwood Gardens Professional Gardener (PG) Training Program\, completing that program in 2006. He currently serves as president for the PG Alumni Association and vice president of the board of managers at Chenoa Manor. He studied Horticulture and Landscape Design at University of Wisconsin River Falls. \n\nAbout ACCESS \nScott Arboretum & Gardens proudly participates in the Art-Reach ACCESS program. Pennsylvania ACCESS/EBT cardholders\, and Art-Reach ACCESS cardholders may receive $2 tickets for the cardholder and up to 3 guests. This discount may not be valid for special events or sold out events\, or combined with other discount offers. Visitors must show their ACCESS card and valid photo ID on the day of the program. For more information about the ACCESS program\, please visit art-reach.org/access. 
URL:https://www.scottarboretum.org/calendar/introduction-to-garden-sustainability-class/
LOCATION:Wister Center – Gillespie Room\, 500 College Avenue\, Swarthmore\, PA\, United States
CATEGORIES:Classes,In-person Event
ATTACH;FMTTYPE=image/jpeg:https://www.scottarboretum.org/wp-content/uploads/2025/08/Garden-Sustainability-adam-planting-gravel-600-by-400.jpg
END:VEVENT
BEGIN:VEVENT
DTSTART;TZID=America/Detroit:20251024T100000
DTEND;TZID=America/Detroit:20251024T104500
DTSTAMP:20260421T072726
CREATED:20250808T224547Z
LAST-MODIFIED:20251006T144829Z
UID:10001385-1761300000-1761302700@www.scottarboretum.org
SUMMARY:Nature Nook Fall Session
DESCRIPTION:Calling all little nature explorers! Join us at Scott Arboretum & Gardens for mornings full of singing\, stories\, crafts\, and dancing. Each session is seasonally themed around nature and the garden. This program is designed for children ages 2 to 4 years old.  \nRegistration Cost: \nMembers: Free \nNon-Members: $40 \nACCESS Cardholder: $2; call 610-328-8025 to register. \nDid you know a Family level membership to the Associates of Scott Arboretum & Gardens is only $55 and includes benefits for two adults and up to four children? Become a member of the Associates of the Scott Arboretum here.  \nSOLD OUT \nProgram Details \n\nRegistration is required and includes all 8 sessions. \nClass size is limited. \nRegistration for members includes participation for up to 4 children and up to 2 caregivers.\nRegistration for non-members includes one child and their caregiver. \nSessions will start in the Wister Center with a story and craft\, followed by a short walk to explore a garden.\nEmail us if you have accessibility needs for this program.\nFor more information\, review our program and event policies or call the Scott Arboretum office at 610-328-8025. 
URL:https://www.scottarboretum.org/calendar/nature-nook-fall-session/2025-10-24/
LOCATION:Wister Center – Gillespie Room\, 500 College Avenue\, Swarthmore\, PA\, United States
CATEGORIES:Classes,Family and Youth Activities,In-person Event
ATTACH;FMTTYPE=image/jpeg:https://www.scottarboretum.org/wp-content/uploads/2025/08/Nature-Nook-Fall-2025-600-by-400.jpg
END:VEVENT
BEGIN:VEVENT
DTSTART;TZID=America/Detroit:20251031T100000
DTEND;TZID=America/Detroit:20251031T104500
DTSTAMP:20260421T072726
CREATED:20250808T224547Z
LAST-MODIFIED:20251006T144829Z
UID:10001386-1761904800-1761907500@www.scottarboretum.org
SUMMARY:Nature Nook Fall Session
DESCRIPTION:Calling all little nature explorers! Join us at Scott Arboretum & Gardens for mornings full of singing\, stories\, crafts\, and dancing. Each session is seasonally themed around nature and the garden. This program is designed for children ages 2 to 4 years old.  \nRegistration Cost: \nMembers: Free \nNon-Members: $40 \nACCESS Cardholder: $2; call 610-328-8025 to register. \nDid you know a Family level membership to the Associates of Scott Arboretum & Gardens is only $55 and includes benefits for two adults and up to four children? Become a member of the Associates of the Scott Arboretum here.  \nSOLD OUT \nProgram Details \n\nRegistration is required and includes all 8 sessions. \nClass size is limited. \nRegistration for members includes participation for up to 4 children and up to 2 caregivers.\nRegistration for non-members includes one child and their caregiver. \nSessions will start in the Wister Center with a story and craft\, followed by a short walk to explore a garden.\nEmail us if you have accessibility needs for this program.\nFor more information\, review our program and event policies or call the Scott Arboretum office at 610-328-8025. 
URL:https://www.scottarboretum.org/calendar/nature-nook-fall-session/2025-10-31/
LOCATION:Wister Center – Gillespie Room\, 500 College Avenue\, Swarthmore\, PA\, United States
CATEGORIES:Classes,Family and Youth Activities,In-person Event
ATTACH;FMTTYPE=image/jpeg:https://www.scottarboretum.org/wp-content/uploads/2025/08/Nature-Nook-Fall-2025-600-by-400.jpg
END:VEVENT
END:VCALENDAR