BEGIN:VCALENDAR
VERSION:2.0
PRODID:-//Scott Arboretum &amp; Gardens - ECPv6.9.0//NONSGML v1.0//EN
CALSCALE:GREGORIAN
METHOD:PUBLISH
X-ORIGINAL-URL:https://www.scottarboretum.org
X-WR-CALDESC:Events for Scott Arboretum &amp; Gardens
REFRESH-INTERVAL;VALUE=DURATION:PT1H
X-Robots-Tag:noindex
X-PUBLISHED-TTL:PT1H
BEGIN:VTIMEZONE
TZID:America/New_York
BEGIN:DAYLIGHT
TZOFFSETFROM:-0500
TZOFFSETTO:-0400
TZNAME:EDT
DTSTART:20250309T070000
END:DAYLIGHT
BEGIN:STANDARD
TZOFFSETFROM:-0400
TZOFFSETTO:-0500
TZNAME:EST
DTSTART:20251102T060000
END:STANDARD
END:VTIMEZONE
BEGIN:VEVENT
DTSTART;TZID=America/New_York:20250207T180000
DTEND;TZID=America/New_York:20250207T193000
DTSTAMP:20260421T200441
CREATED:20241112T210039Z
LAST-MODIFIED:20241222T052407Z
UID:10001047-1738951200-1738956600@www.scottarboretum.org
SUMMARY:Horticultural Harmony: Exploring Éclat's Artisan Chocolates
DESCRIPTION:Indulge in a luxury chocolate tasting led by Master Chocolatier Christopher Curtin of award-winning Éclat Chocolate in West Chester\, Pa. Participants will receive a brief history of chocolate\, gain an understanding of Éclat’s creative process\, and sample seven artisanal chocolates. Snacks and alcoholic and non-alcoholic  beverage pairings will be served.  \nRegistration Cost:  \nMembers: $50 \nNon-Members: $60 \n Become a member of the Associates of the Scott Arboretum here.  \n\nRegister Now\n\nProgram Details \n\nRegistration is required.\nClass size limited to 18.\nEmail us if you have accessibility needs for this program.\nFor more information\, review our program and event policies or call the Scott office at 610-328-8025. \n\nAbout the Presenter \nÉclat Chocolate’s founder and Master chocolatier Christopher Curtin set out from Madison\, Wisconsin\, to the House of le Compagnons du Devoir\, home of the premier guild of pastry chefs and artisans in France. It was here where he worked alongside the best journeyman pastry chefs in Europe\, and became the first American to be awarded the honor of German Pastry Chef and Chocolatier in Cologne\, Germany. \nImmersed in the realm of the World’s top chocolate makers\, Christopher continued to hone his skills in the finest chocolate houses of Belgium\, Switzerland\, France\, Germany and Japan. Here\, he had the privilege of sharing in the greatest of secrets and techniques—secrets and techniques that make Éclat Chocolate a unique experience you won’t soon forget.
URL:https://www.scottarboretum.org/calendar/horticultural-harmony-exploring-eclats-artisan-chocolates/
LOCATION:Copy of PPAvisitDM 047
CATEGORIES:Classes,In-person Event
ATTACH;FMTTYPE=image/jpeg:https://www.scottarboretum.org/wp-content/uploads/2024/11/Horticultural-Harmony-Chocolate-Tasting-600-by-400.jpg
END:VEVENT
END:VCALENDAR