BEGIN:VCALENDAR
VERSION:2.0
PRODID:-//Scott Arboretum &amp; Gardens - ECPv6.9.0//NONSGML v1.0//EN
CALSCALE:GREGORIAN
METHOD:PUBLISH
X-WR-CALNAME:Scott Arboretum &amp; Gardens
X-ORIGINAL-URL:https://www.scottarboretum.org
X-WR-CALDESC:Events for Scott Arboretum &amp; Gardens
REFRESH-INTERVAL;VALUE=DURATION:PT1H
X-Robots-Tag:noindex
X-PUBLISHED-TTL:PT1H
BEGIN:VTIMEZONE
TZID:America/Detroit
BEGIN:DAYLIGHT
TZOFFSETFROM:-0500
TZOFFSETTO:-0400
TZNAME:EDT
DTSTART:20250309T070000
END:DAYLIGHT
BEGIN:STANDARD
TZOFFSETFROM:-0400
TZOFFSETTO:-0500
TZNAME:EST
DTSTART:20251102T060000
END:STANDARD
END:VTIMEZONE
BEGIN:VEVENT
DTSTART;TZID=America/Detroit:20251115T120000
DTEND;TZID=America/Detroit:20251115T140000
DTSTAMP:20260421T033714
CREATED:20251104T134524Z
LAST-MODIFIED:20251104T134812Z
UID:10001448-1763208000-1763215200@www.scottarboretum.org
SUMMARY:Ikebana Flower Arranging Make-and-Take
DESCRIPTION:After exploring the exhibition\, adults and children are invited to create their own floral arrangement using traditional Ikebana techniques. All materials will be provided and experts will be on-hand to provide assistance. \nThis is a free\, drop-in program and no registration is required. \nProgram Details:  \n\nThis event will be held in front of the Wister building.\nAll children must be accompanied by an adult.\nEveryone will be able to take home the floral arrangement they create.\nEmail us if you have accessibility needs for this program.
URL:https://www.scottarboretum.org/calendar/ikebana-flower-arranging-make-and-take/
LOCATION:Wister Center\, 500 College Ave.\, Swarthmore\, PA\, United States
CATEGORIES:Family and Youth Activities,In-person Event,Special Events
ATTACH;FMTTYPE=image/jpeg:https://www.scottarboretum.org/wp-content/uploads/2025/11/Ohara-Ikebana-Make-and-Take.jpg
END:VEVENT
END:VCALENDAR