BEGIN:VCALENDAR
VERSION:2.0
PRODID:-//Scott Arboretum &amp; Gardens - ECPv6.9.0//NONSGML v1.0//EN
CALSCALE:GREGORIAN
METHOD:PUBLISH
X-WR-CALNAME:Scott Arboretum &amp; Gardens
X-ORIGINAL-URL:https://www.scottarboretum.org
X-WR-CALDESC:Events for Scott Arboretum &amp; Gardens
REFRESH-INTERVAL;VALUE=DURATION:PT1H
X-Robots-Tag:noindex
X-PUBLISHED-TTL:PT1H
BEGIN:VTIMEZONE
TZID:America/New_York
BEGIN:DAYLIGHT
TZOFFSETFROM:-0500
TZOFFSETTO:-0400
TZNAME:EDT
DTSTART:20250309T070000
END:DAYLIGHT
BEGIN:STANDARD
TZOFFSETFROM:-0400
TZOFFSETTO:-0500
TZNAME:EST
DTSTART:20251102T060000
END:STANDARD
END:VTIMEZONE
BEGIN:VEVENT
DTSTART;TZID=America/New_York:20250709T090000
DTEND;TZID=America/New_York:20250709T103000
DTSTAMP:20260421T071228
CREATED:20250430T122650Z
LAST-MODIFIED:20250708T135228Z
UID:10001337-1752051600-1752057000@www.scottarboretum.org
SUMMARY:Members-Only Foraging Hike
DESCRIPTION:Step into the lush greenery of the Crum Woods for an exclusive members-only foraging hike led by Sue MacQueen\, Campus Engagement Manager and experienced forager. Open to all ages\, this guided exploration will introduce you to plants thriving in our local ecosystem. \nDuring this hike\, you’ll learn to identify seasonal wild foods\, discover their traditional uses\, and gain a deeper appreciation for the natural abundance around us. Whether you’re a seasoned forager or a curious beginner\, this immersive walk offers a unique way to connect with nature and the changing landscape of summer. \nAccessibility  \n\nThis program is not wheelchair or stroller accessible.\nParticipants must be able to hike on unpaved\, hilly surfaces for about 2 miles\, with exposed roots and rocks. \nEmail us if you have other accessibility needs for this program.\n\nRegister Now \nProgram Details \n\nThis members-only event is free\, but registration is encouraged to receive program updates. \nThis hike will depart from Matchbox. \nVisitor Parking is available in Field House Parking along Field House Lane using Swarthmore College’s South Entrance. Walking signs will guide participants to the tour departure location in front of Matchbox.\nFor more information\, review our program and event policies or call the Scott office at 610-328-8025.\nPlease note this hike has a different departure location than other tours.
URL:https://www.scottarboretum.org/calendar/members-only-foraging-hike/
LOCATION:PA
CATEGORIES:In-person Event,Special Events
ATTACH;FMTTYPE=image/jpeg:https://www.scottarboretum.org/wp-content/uploads/2025/04/Member-only-foraging-hike-600-by-400.jpg
END:VEVENT
END:VCALENDAR