BEGIN:VCALENDAR
VERSION:2.0
PRODID:-//Scott Arboretum &amp; Gardens - ECPv6.9.0//NONSGML v1.0//EN
CALSCALE:GREGORIAN
METHOD:PUBLISH
X-WR-CALNAME:Scott Arboretum &amp; Gardens
X-ORIGINAL-URL:https://www.scottarboretum.org
X-WR-CALDESC:Events for Scott Arboretum &amp; Gardens
REFRESH-INTERVAL;VALUE=DURATION:PT1H
X-Robots-Tag:noindex
X-PUBLISHED-TTL:PT1H
BEGIN:VTIMEZONE
TZID:America/Detroit
BEGIN:DAYLIGHT
TZOFFSETFROM:-0500
TZOFFSETTO:-0400
TZNAME:EDT
DTSTART:20250309T070000
END:DAYLIGHT
BEGIN:STANDARD
TZOFFSETFROM:-0400
TZOFFSETTO:-0500
TZNAME:EST
DTSTART:20251102T060000
END:STANDARD
END:VTIMEZONE
BEGIN:VEVENT
DTSTART;TZID=America/Detroit:20251009T153000
DTEND;TZID=America/Detroit:20251009T183000
DTSTAMP:20260421T031635
CREATED:20250808T225024Z
LAST-MODIFIED:20250815T174856Z
UID:10001358-1760023800-1760034600@www.scottarboretum.org
SUMMARY:Special Members Event
DESCRIPTION:Scott Associates at the Sponsor level and above are invited join us for an exclusive reception of the newly re-planted Pollinator Garden and Winter Garden! These landscapes surround Martin Hall\, which recently completed a two-year renovation. Discover how our gardens were reimagined to complement the space. \nBecome a member of the Scott Associates at the Sponsor level or above to attend this event! \nProgram Details \n\nThis free event is for Scott Associates at the Sponsor level or above.\nRegistration is required.\nPlease park in the Whittier Parking Lot off of Whittier Place\, which is the north entrance to the College.\nEmail us if you have accessibility needs for this program.\nFor more information\, review our program and event policies or call the Scott office at 610-328-8025
URL:https://www.scottarboretum.org/calendar/special-members-event/
LOCATION:Martin Hall\, 500 College Ave.\, Swarthmore\, Pennsylvania\, 19081
CATEGORIES:In-person Event,Special Events
ATTACH;FMTTYPE=image/jpeg:https://www.scottarboretum.org/wp-content/uploads/2025/08/Special-Members-ARTS-Plaza-600-by-400.jpg
END:VEVENT
BEGIN:VEVENT
DTSTART;TZID=America/Detroit:20251026T120000
DTEND;TZID=America/Detroit:20251026T160000
DTSTAMP:20260421T031635
CREATED:20250808T203117Z
LAST-MODIFIED:20250808T203117Z
UID:10001362-1761480000-1761494400@www.scottarboretum.org
SUMMARY:Peony Dig & Divide Event
DESCRIPTION:Learn from Mid-Atlantic Peony Society members during this peony care demonstration\, sale\, auction\, and reception. The demonstration will include information about how to site\, plant\, dig\, and divide peonies at this time of year for best results. Tree\, herbaceous\, and Itoh hybrid peonies will be discussed. Stay after the demonstration to enjoy a peony sale\, auction\, and reception presented by the Mid-Atlantic Peony Society. Open to all those with an interest in peonies!  \nThis event is free and open to the public. No registration required. \nProgram Details \n\nEmail us if you have accessibility needs for this program.\nFor more information\, review our program and event policies or call the Scott Arboretum office at 610-328-8025. 
URL:https://www.scottarboretum.org/calendar/peony-dig-divide-event-2/
LOCATION:Wister Center – Gillespie Room\, 500 College Avenue\, Swarthmore\, PA\, United States
CATEGORIES:In-person Event,Special Events
ATTACH;FMTTYPE=image/jpeg:https://www.scottarboretum.org/wp-content/uploads/2022/09/Peony-Dig-and-Divide-Web-Block-600-by-400-LSXAKs.tmp_.jpg
END:VEVENT
END:VCALENDAR