BEGIN:VCALENDAR
VERSION:2.0
PRODID:-//Scott Arboretum &amp; Gardens - ECPv6.9.0//NONSGML v1.0//EN
CALSCALE:GREGORIAN
METHOD:PUBLISH
X-WR-CALNAME:Scott Arboretum &amp; Gardens
X-ORIGINAL-URL:https://www.scottarboretum.org
X-WR-CALDESC:Events for Scott Arboretum &amp; Gardens
REFRESH-INTERVAL;VALUE=DURATION:PT1H
X-Robots-Tag:noindex
X-PUBLISHED-TTL:PT1H
BEGIN:VTIMEZONE
TZID:America/Detroit
BEGIN:DAYLIGHT
TZOFFSETFROM:-0500
TZOFFSETTO:-0400
TZNAME:EDT
DTSTART:20250309T070000
END:DAYLIGHT
BEGIN:STANDARD
TZOFFSETFROM:-0400
TZOFFSETTO:-0500
TZNAME:EST
DTSTART:20251102T060000
END:STANDARD
END:VTIMEZONE
BEGIN:VEVENT
DTSTART;TZID=America/Detroit:20250506T180000
DTEND;TZID=America/Detroit:20250506T190000
DTSTAMP:20260421T101200
CREATED:20250306T214501Z
LAST-MODIFIED:20250306T214501Z
UID:10001097-1746554400-1746558000@www.scottarboretum.org
SUMMARY:Tree Peony Tour
DESCRIPTION:One of our first collections after our founding in 1929\, tree peonies are gorgeous flowers that are a highlight every May. Enjoy the early evening ambiance while learning about the different types of tree peony hybrids in our collection from our horticulture staff. \nGardeners and plant enthusiasts of all levels are welcome.  \nRegister Now \nProgram Details \n\nThis event is free\, but registration is encouraged to receive program updates.\nTours begin in front of the Scott offices (Cunningham House).\nThe tour will be canceled in the event of inclement weather. \nEmail us if you have accessibility needs for this program.\nFor more information\, review our program and event policies or call the Scott Arboretum office at 610-328-8025
URL:https://www.scottarboretum.org/calendar/tree-peony-tour/
LOCATION:Scott Arboretum Offices\, 500 College Ave.\, Swarthmore\, PA\, United States
CATEGORIES:In-person Event,Tours
ATTACH;FMTTYPE=image/jpeg:https://www.scottarboretum.org/wp-content/uploads/2025/03/Tree-Peony-Tour-600-by-400.jpg
END:VEVENT
BEGIN:VEVENT
DTSTART;TZID=America/Detroit:20250515T120000
DTEND;TZID=America/Detroit:20250515T130000
DTSTAMP:20260421T101200
CREATED:20250307T142408Z
LAST-MODIFIED:20250307T142450Z
UID:10001100-1747310400-1747314000@www.scottarboretum.org
SUMMARY:Green Roof Tour
DESCRIPTION:Learn about the inner workings\, benefits\, sustainability\, and beauty of green roofs at the Arboretum. A member of our horticulture staff will lead this exploration of one of the many green roofs on campus. All participants must be 18 or older. \nRegister Now \nProgram Details \n\nThis event is free\, but registration is encouraged to receive program updates.\nTours begin in front of the Scott Arboretum offices (Cunningham House).\nThe tour will be canceled in the event of inclement weather. \nEmail us if you have accessibility needs for this program.\nFor more information\, review our program and event policies or call the Scott Arboretum office at 610-328-8025
URL:https://www.scottarboretum.org/calendar/green-roof-tour/
LOCATION:Scott Arboretum Offices\, 500 College Ave.\, Swarthmore\, PA\, United States
CATEGORIES:In-person Event,Tours
ATTACH;FMTTYPE=image/jpeg:https://www.scottarboretum.org/wp-content/uploads/2025/03/Green-Roof-Tour-600-by-400.jpg
END:VEVENT
BEGIN:VEVENT
DTSTART;TZID=America/Detroit:20250516T120000
DTEND;TZID=America/Detroit:20250516T130000
DTSTAMP:20260421T101200
CREATED:20250307T142641Z
LAST-MODIFIED:20250307T142641Z
UID:10001101-1747396800-1747400400@www.scottarboretum.org
SUMMARY:In-Person Lunchtime Tour: May Highlights
DESCRIPTION:Explore the beautiful blooms of the springtime garden on a tour led by our expert horticulture staff. Gardeners and plant enthusiasts of all levels are welcome. This event is free\, but registration is encouraged to receive program updates.  \nRegister Now \nProgram Details \n\nTours begin in front of the Scott Arboretum offices (Cunningham House).\nThe tour will be canceled in the event of inclement weather. \nEmail us if you have accessibility needs for this program.\nFor more information\, review our program and event policies or call the Scott Arboretum office at 610-328-8025
URL:https://www.scottarboretum.org/calendar/in-person-lunchtime-tour-may-highlights/
LOCATION:Scott Arboretum Offices\, 500 College Ave.\, Swarthmore\, PA\, United States
CATEGORIES:In-person Event,Tours
ATTACH;FMTTYPE=image/jpeg:https://www.scottarboretum.org/wp-content/uploads/2025/03/Lunchtime-Tour-May-Highlights-600-by-400.jpg
END:VEVENT
BEGIN:VEVENT
DTSTART;TZID=America/Detroit:20250520T120000
DTEND;TZID=America/Detroit:20250520T123000
DTSTAMP:20260421T101200
CREATED:20250307T142836Z
LAST-MODIFIED:20250307T142913Z
UID:10001102-1747742400-1747744200@www.scottarboretum.org
SUMMARY:Virtual Lunchtime Tour: Cunningham House Gardens
DESCRIPTION:Take your lunch break virtually and explore the beauty of the gardens surrounding the Cunningham House. Explore the Scott Entrance Garden and the Terry Shane Teaching Garden in all its glory this spring with a guided tour from our horticultural staff.  \nTune in on our YouTube channel.
URL:https://www.scottarboretum.org/calendar/virtual-lunchtime-tour-cunningham-house-gardens/
LOCATION:Virtual Meeting
CATEGORIES:Tours,Virtual Events
ATTACH;FMTTYPE=image/jpeg:https://www.scottarboretum.org/wp-content/uploads/2025/03/Lunchtime-Tour-Cunningham-House-Gardens-600-by-400.jpg
END:VEVENT
BEGIN:VEVENT
DTSTART;TZID=America/Detroit:20250521T150000
DTEND;TZID=America/Detroit:20250521T160000
DTSTAMP:20260421T101200
CREATED:20250307T143137Z
LAST-MODIFIED:20250307T143227Z
UID:10001103-1747839600-1747843200@www.scottarboretum.org
SUMMARY:In-Person Peony Tour
DESCRIPTION:Explore Scott Arboretum & Gardens wide variety of peonies on this tour led by an expert horticulturist.  Gardeners and plant enthusiasts of all levels are welcome. Be sure to stop by the Wister Center before or after your tour to experience Peony Palooza\, a peony flower exhibition presented in partnership with the Mid-Atlantic Peony Society.  \nRegister Now \nProgram Details \n\nThis event is free\, but registration is encouraged to receive program updates.\nTours begin in front of the Scott offices (Cunningham House).\nThe tour will be canceled in the event of inclement weather. \nEmail us if you have accessibility needs for this program.\nFor more information\, review our program and event policies or call the Scott Arboretum office at 610-328-8025
URL:https://www.scottarboretum.org/calendar/in-person-peony-tour/
LOCATION:Wister Center\, 500 College Ave.\, Swarthmore\, PA\, United States
CATEGORIES:In-person Event,Tours
ATTACH;FMTTYPE=image/jpeg:https://www.scottarboretum.org/wp-content/uploads/2025/03/In-person-Peony-Tour-600-by-400.jpg
END:VEVENT
END:VCALENDAR