BEGIN:VCALENDAR
VERSION:2.0
PRODID:-//Scott Arboretum &amp; Gardens - ECPv6.9.0//NONSGML v1.0//EN
CALSCALE:GREGORIAN
METHOD:PUBLISH
X-WR-CALNAME:Scott Arboretum &amp; Gardens
X-ORIGINAL-URL:https://www.scottarboretum.org
X-WR-CALDESC:Events for Scott Arboretum &amp; Gardens
REFRESH-INTERVAL;VALUE=DURATION:PT1H
X-Robots-Tag:noindex
X-PUBLISHED-TTL:PT1H
BEGIN:VTIMEZONE
TZID:America/New_York
BEGIN:DAYLIGHT
TZOFFSETFROM:-0500
TZOFFSETTO:-0400
TZNAME:EDT
DTSTART:20250309T070000
END:DAYLIGHT
BEGIN:STANDARD
TZOFFSETFROM:-0400
TZOFFSETTO:-0500
TZNAME:EST
DTSTART:20251102T060000
END:STANDARD
END:VTIMEZONE
BEGIN:VEVENT
DTSTART;TZID=America/New_York:20250613T100000
DTEND;TZID=America/New_York:20250613T110000
DTSTAMP:20260421T085017
CREATED:20250424T141855Z
LAST-MODIFIED:20250529T150011Z
UID:10001331-1749808800-1749812400@www.scottarboretum.org
SUMMARY:In-Person June Highlights Tour
DESCRIPTION:Enjoy a morning stroll through the gardens to learn about plants blooming in June and the Theresa Lang Garden of Fragrance with a tour led by our horticulture staff. Gardeners and plant enthusiasts of all levels are welcome.  \nRegister Now \nProgram Details \n\nThis event is free\, but registration is encouraged to receive program updates.\nTours begin in front of the Scott Arboretum & Gardens office (Cunningham House).\nThe tour will be canceled in the event of inclement weather. \nEmail us if you have accessibility needs for this program.\nFor more information\, review our program and event policies or call the Scott office at 610-328-8025
URL:https://www.scottarboretum.org/calendar/in-person-june-highlights-tour/
LOCATION:Visit
CATEGORIES:In-person Event,Tours
ATTACH;FMTTYPE=image/jpeg:https://www.scottarboretum.org/wp-content/uploads/2025/04/June-Highlights-Tour-Dogwood-600-by-400.jpg
END:VEVENT
BEGIN:VEVENT
DTSTART;TZID=America/New_York:20250622T130000
DTEND;TZID=America/New_York:20250622T160000
DTSTAMP:20260421T085017
CREATED:20250124T213618Z
LAST-MODIFIED:20250522T204225Z
UID:10001334-1750597200-1750608000@www.scottarboretum.org
SUMMARY:Scott Associates’ Garden Day
DESCRIPTION:See glorious gardens created and maintained by gardeners like you at the Scott Associates’ Garden Day. Stroll through gardens in Chadds Ford and Glen Mills to be inspired\, learn about plant combinations\, and get gardening tips. This is a great opportunity to see firsthand how gardens grow in the greater Philadelphia area. Admission is free for members of the Scott Associates.  \nScott Associates will be mailed the Garden Day booklet in June with complete details. For non-member tickets\, pick up a Garden Day booklet at the Scott Arboretum & Gardens offices. Tickets can be purchased at the garden of your choosing. \nProgram Details \n\nAdmission is free for members; non-members can purchase tickets for $25 for adults and $15 for children. \nTickets and Garden Day booklets are available during the event at each garden.\nEmail us if you have accessibility needs for this program.\nFor more information\, review our program and event policies or call the Scott Arboretum office at 610-328-8025. 
URL:https://www.scottarboretum.org/calendar/scott-associates-garden-day-4/
LOCATION:PA
CATEGORIES:In-person Event,Special Events,Tours
ATTACH;FMTTYPE=image/jpeg:https://www.scottarboretum.org/wp-content/uploads/2025/01/Nolan-Garden-2-scaled-1.jpg
END:VEVENT
BEGIN:VEVENT
DTSTART;TZID=America/New_York:20250624T170000
DTEND;TZID=America/New_York:20250624T180000
DTSTAMP:20260421T085017
CREATED:20250430T120956Z
LAST-MODIFIED:20250623T155303Z
UID:10001335-1750784400-1750788000@www.scottarboretum.org
SUMMARY:Green Roof Tour
DESCRIPTION:Learn about the inner workings\, benefits\, sustainability\, and beauty of green roofs at the Arboretum. Gardener Sandra Lopez Cortez will lead this exploration of one of the many green roofs on campus. All participants must be 18 or older. \nDue to expected extreme heat\, this tour is canceled.  \nProgram Details \n\nThis event is free\, but registration is encouraged to receive program updates.\nTours begin in front of the Scott Arboretum & Gardens offices (Cunningham House).\nThe tour will be canceled in the event of inclement weather. \nEmail us if you have accessibility needs for this program.\nFor more information\, review our program and event policies or call the Scott office at 610-328-8025
URL:https://www.scottarboretum.org/calendar/green-roof-tour-5/
LOCATION:Visit
CATEGORIES:In-person Event,Tours
ATTACH;FMTTYPE=image/jpeg:https://www.scottarboretum.org/wp-content/uploads/2025/01/Green-Roof-Tour-600-by-400.jpg
END:VEVENT
BEGIN:VEVENT
DTSTART;TZID=America/New_York:20250627T120000
DTEND;TZID=America/New_York:20250627T123000
DTSTAMP:20260421T085017
CREATED:20250418T170416Z
LAST-MODIFIED:20250625T201938Z
UID:10001336-1751025600-1751027400@www.scottarboretum.org
SUMMARY:Virtual Lunchtime Tour: Theresa Lang Garden of Fragrance
DESCRIPTION:Take your lunch break virtually and explore the beautiful Theresa Lang Garden of Fragrance with Gardener Abi Urena Almonte. Tune in on our YouTube channel.
URL:https://www.scottarboretum.org/calendar/virtual-lunchtime-tour-theresa-lang-garden-of-fragrance/
LOCATION:PA
CATEGORIES:Tours,Virtual Events
ATTACH;FMTTYPE=image/jpeg:https://www.scottarboretum.org/wp-content/uploads/2025/04/Lunchtime-Fragrance-Garden-600-by-400.jpg
END:VEVENT
END:VCALENDAR