BEGIN:VCALENDAR
VERSION:2.0
PRODID:-//Scott Arboretum &amp; Gardens - ECPv6.9.0//NONSGML v1.0//EN
CALSCALE:GREGORIAN
METHOD:PUBLISH
X-ORIGINAL-URL:https://www.scottarboretum.org
X-WR-CALDESC:Events for Scott Arboretum &amp; Gardens
REFRESH-INTERVAL;VALUE=DURATION:PT1H
X-Robots-Tag:noindex
X-PUBLISHED-TTL:PT1H
BEGIN:VTIMEZONE
TZID:America/New_York
BEGIN:DAYLIGHT
TZOFFSETFROM:-0500
TZOFFSETTO:-0400
TZNAME:EDT
DTSTART:20250309T070000
END:DAYLIGHT
BEGIN:STANDARD
TZOFFSETFROM:-0400
TZOFFSETTO:-0500
TZNAME:EST
DTSTART:20251102T060000
END:STANDARD
END:VTIMEZONE
BEGIN:VEVENT
DTSTART;TZID=America/New_York:20250808T100000
DTEND;TZID=America/New_York:20250808T110000
DTSTAMP:20260421T060453
CREATED:20250430T132308Z
LAST-MODIFIED:20250723T135054Z
UID:10001345-1754647200-1754650800@www.scottarboretum.org
SUMMARY:In-Person August Highlights Tour
DESCRIPTION:Enjoy a morning stroll through the gardens to learn about plants blooming in August and explore the West Garden with a tour led by our horticulture staff. Gardeners and plant enthusiasts of all levels are welcome.  \nRegister Now \nProgram Details \n\nThis event is free\, but registration is encouraged to receive program updates.\nTours begin in front of the Scott Arboretum & Gardens office (Cunningham House).\nThe tour will be canceled in the event of inclement weather. \nEmail us  if you have accessibility needs for this program.\nFor more information\, review our program and event policies or call the Scott office at 610-328-8025
URL:https://www.scottarboretum.org/calendar/in-person-august-highlights-tour/
LOCATION:Visit
CATEGORIES:In-person Event,Tours
ATTACH;FMTTYPE=image/jpeg:https://www.scottarboretum.org/wp-content/uploads/2025/04/In-person-August-Highlights-Tour-600-by-400.jpg
END:VEVENT
BEGIN:VEVENT
DTSTART;TZID=America/New_York:20250828T120000
DTEND;TZID=America/New_York:20250828T123000
DTSTAMP:20260421T060453
CREATED:20250418T182809Z
LAST-MODIFIED:20250822T183239Z
UID:10001347-1756382400-1756384200@www.scottarboretum.org
SUMMARY:Virtual Lunchtime Tour: Harry Wood Garden
DESCRIPTION:Take your lunch break virtually as you explore the Harry Wood Garden with Gardener Andrew DeGothseir.  Tune in on our YouTube channel.
URL:https://www.scottarboretum.org/calendar/virtual-lunchtime-tour-west-garden/
LOCATION:PA
CATEGORIES:Tours,Virtual Events
ATTACH;FMTTYPE=image/jpeg:https://www.scottarboretum.org/wp-content/uploads/2025/04/Lunchtime-Tour-West-Garden-600-by-400.jpg
END:VEVENT
END:VCALENDAR