BEGIN:VCALENDAR
VERSION:2.0
PRODID:-//Scott Arboretum &amp; Gardens - ECPv6.9.0//NONSGML v1.0//EN
CALSCALE:GREGORIAN
METHOD:PUBLISH
X-ORIGINAL-URL:https://www.scottarboretum.org
X-WR-CALDESC:Events for Scott Arboretum &amp; Gardens
REFRESH-INTERVAL;VALUE=DURATION:PT1H
X-Robots-Tag:noindex
X-PUBLISHED-TTL:PT1H
BEGIN:VTIMEZONE
TZID:America/Detroit
BEGIN:DAYLIGHT
TZOFFSETFROM:-0500
TZOFFSETTO:-0400
TZNAME:EDT
DTSTART:20250309T070000
END:DAYLIGHT
BEGIN:STANDARD
TZOFFSETFROM:-0400
TZOFFSETTO:-0500
TZNAME:EST
DTSTART:20251102T060000
END:STANDARD
END:VTIMEZONE
BEGIN:VEVENT
DTSTART;TZID=America/Detroit:20251101T120000
DTEND;TZID=America/Detroit:20251101T123000
DTSTAMP:20260421T020035
CREATED:20250808T203909Z
LAST-MODIFIED:20251031T132239Z
UID:10001364-1761998400-1762000200@www.scottarboretum.org
SUMMARY:Virtual Lunchtime Tour: Biostream
DESCRIPTION:Take your lunch break virtually as you explore the Biostream with one of our expert horticulturists. The Biostream is a man-made abstraction of a stream that both looks beautiful and mitigates stormwater. Learn about the plants that comprise this garden space by tuning in on our YouTube channel.
URL:https://www.scottarboretum.org/calendar/virtual-lunchtime-tour-biostream/
LOCATION:Virtual Meeting
CATEGORIES:Tours,Virtual Events
ATTACH;FMTTYPE=image/jpeg:https://www.scottarboretum.org/wp-content/uploads/2025/08/Biostream-October-23-2017-RHR-177-600-by-400.jpg
END:VEVENT
BEGIN:VEVENT
DTSTART;TZID=America/Detroit:20251109T123000
DTEND;TZID=America/Detroit:20251109T133000
DTSTAMP:20260421T020035
CREATED:20250808T230350Z
LAST-MODIFIED:20250815T175651Z
UID:10001366-1762691400-1762695000@www.scottarboretum.org
SUMMARY:In-Person November Highlights Tour
DESCRIPTION:Enjoy a lunchtime stroll through the gardens to learn about the John W. Nason Garden and other November plant highlights with a tour led by our horticulture staff. Gardeners and plant enthusiasts of all levels are welcome. After this tour\, join us for a free presentation: A Personal Guide to Bulbs through the Seasons.  \nRegister Now \nProgram Details \n\nThis event is free\, but registration is encouraged to receive program updates.\nTours begin in front of the Scott Arboretum & Gardens office (Cunningham House).\nThe tour will be canceled in the event of inclement weather. \nEmail us if you have accessibility needs for this program.\nFor more information\, review our program and event policies or call the Scott office at 610-328-8025\n\n 
URL:https://www.scottarboretum.org/calendar/in-person-november-highlights-tour/
LOCATION:Scott Arboretum Offices\, 500 College Ave.\, Swarthmore\, PA\, United States
CATEGORIES:In-person Event,Tours
ATTACH;FMTTYPE=image/jpeg:https://www.scottarboretum.org/wp-content/uploads/2025/08/In-person-Nov-Highlights-600-by-400.jpg
END:VEVENT
BEGIN:VEVENT
DTSTART;TZID=America/Detroit:20251115T130000
DTEND;TZID=America/Detroit:20251115T140000
DTSTAMP:20260421T020035
CREATED:20250808T231508Z
LAST-MODIFIED:20250815T180031Z
UID:10001371-1763211600-1763215200@www.scottarboretum.org
SUMMARY:In-Person Japanese Maple Collection Tour
DESCRIPTION:Explore the Japanese Maple Collection at Scott Arboretum & Gardens with our expert horticulture staff and enjoy the variety of vibrant hues that maples bring to autumn. Gardeners and plant enthusiasts of all levels are welcome. After your tour\, be sure to experience the Ohara School of Ikebana Exhibition in the Wister Center.  \nThis event is free\, but registration is encouraged to receive program updates.  \nRegister Now \nProgram Details \n\nThis event is free\, but registration is encouraged to receive program updates. \nTours begin in front of the Scott Arboretum offices (Cunningham House).\nThe tour will be canceled in the event of inclement weather. \nEmail us if you have accessibility needs for this program.\nFor more information\, review our program and event policies or call the Scott Arboretum office at 610-328-8025
URL:https://www.scottarboretum.org/calendar/in-person-japanese-maple-collection-tour/
LOCATION:Scott Arboretum Offices\, 500 College Ave.\, Swarthmore\, PA\, United States
CATEGORIES:In-person Event,Tours
ATTACH;FMTTYPE=image/jpeg:https://www.scottarboretum.org/wp-content/uploads/2025/08/Japanese-maple-collection-tour-600-by-400.jpg
END:VEVENT
BEGIN:VEVENT
DTSTART;TZID=America/Detroit:20251120T120000
DTEND;TZID=America/Detroit:20251120T123000
DTSTAMP:20260421T020035
CREATED:20250808T211033Z
LAST-MODIFIED:20250808T211033Z
UID:10001372-1763640000-1763641800@www.scottarboretum.org
SUMMARY:Virtual Lunchtime Tour: John W. Nason Garden
DESCRIPTION:Take your lunch break virtually as you explore the textures of the John W. Nason Garden with one of our expert horticulturists. Learn about the plants that comprise this garden by tuning in on our YouTube channel.
URL:https://www.scottarboretum.org/calendar/virtual-lunchtime-tour-john-w-nason-garden/
LOCATION:Virtual Meeting
CATEGORIES:Tours,Virtual Events
ATTACH;FMTTYPE=image/jpeg:https://www.scottarboretum.org/wp-content/uploads/2025/08/Virtaul-tour-John-W.-Nason-Garden-600-by-400.jpg
END:VEVENT
END:VCALENDAR