BEGIN:VCALENDAR
VERSION:2.0
PRODID:-//Scott Arboretum &amp; Gardens - ECPv6.9.0//NONSGML v1.0//EN
CALSCALE:GREGORIAN
METHOD:PUBLISH
X-WR-CALNAME:Scott Arboretum &amp; Gardens
X-ORIGINAL-URL:https://www.scottarboretum.org
X-WR-CALDESC:Events for Scott Arboretum &amp; Gardens
REFRESH-INTERVAL;VALUE=DURATION:PT1H
X-Robots-Tag:noindex
X-PUBLISHED-TTL:PT1H
BEGIN:VTIMEZONE
TZID:America/New_York
BEGIN:DAYLIGHT
TZOFFSETFROM:-0500
TZOFFSETTO:-0400
TZNAME:EDT
DTSTART:20240310T070000
END:DAYLIGHT
BEGIN:STANDARD
TZOFFSETFROM:-0400
TZOFFSETTO:-0500
TZNAME:EST
DTSTART:20241103T060000
END:STANDARD
END:VTIMEZONE
BEGIN:VEVENT
DTSTART;TZID=America/New_York:20241110T123000
DTEND;TZID=America/New_York:20241110T133000
DTSTAMP:20260421T200611
CREATED:20240817T184929Z
LAST-MODIFIED:20240817T184929Z
UID:10001279-1731241800-1731245400@www.scottarboretum.org
SUMMARY:95 Years Highlights Tour: Camellias
DESCRIPTION:Celebrate Scott Arboretum’s 95th Anniversary with in-depth tours of a featured collection. This month’s feature is Camellias. Gardeners and plant enthusiasts of all levels are welcome. After this tour\, join us for a free presentation: Creating Beauty through Garden Adversity . \n \nProgram Details \n\nThis event is free\, but registration is encouraged to receive program updates. \nTour begins in front of the Scott Arboretum offices (Cunningham House).\nThe tour will be canceled in the event of inclement weather. \nEmail us if you have accessibility needs for this program.\nFor more information\, review our program and event policies or call the Scott Arboretum office at 610-328-8025
URL:https://www.scottarboretum.org/calendar/95-years-highlights-tour-camellias/
LOCATION:Visit
CATEGORIES:In-person Event,Tours
ATTACH;FMTTYPE=image/jpeg:https://www.scottarboretum.org/wp-content/uploads/2024/08/95-tour-camellias-600-by-400.jpg
END:VEVENT
END:VCALENDAR