BEGIN:VCALENDAR
VERSION:2.0
PRODID:-//Scott Arboretum &amp; Gardens - ECPv6.9.0//NONSGML v1.0//EN
CALSCALE:GREGORIAN
METHOD:PUBLISH
X-ORIGINAL-URL:https://www.scottarboretum.org
X-WR-CALDESC:Events for Scott Arboretum &amp; Gardens
REFRESH-INTERVAL;VALUE=DURATION:PT1H
X-Robots-Tag:noindex
X-PUBLISHED-TTL:PT1H
BEGIN:VTIMEZONE
TZID:America/New_York
BEGIN:DAYLIGHT
TZOFFSETFROM:-0500
TZOFFSETTO:-0400
TZNAME:EDT
DTSTART:20250309T070000
END:DAYLIGHT
BEGIN:STANDARD
TZOFFSETFROM:-0400
TZOFFSETTO:-0500
TZNAME:EST
DTSTART:20251102T060000
END:STANDARD
END:VTIMEZONE
BEGIN:VEVENT
DTSTART;TZID=America/New_York:20250126T123000
DTEND;TZID=America/New_York:20250126T133000
DTSTAMP:20260421T172327
CREATED:20241112T204101Z
LAST-MODIFIED:20241222T045920Z
UID:10001042-1737894600-1737898200@www.scottarboretum.org
SUMMARY:In-Person Highlights Tour: January Highlights
DESCRIPTION:Enjoy plants and landscapes looking their best in late January with a tour led by our horticulture staff. Gardeners and plant enthusiasts of all levels are welcome.  \nStay after the tour for the free Walkovic and Schumacher Memorial Lecture where Rob Cardillo will be presenting The Art of Garden Photography. \nThis event is free\, but registration is encouraged to receive program updates.  \n\nRegister Now\n\nProgram Details \n\nRegistration is free\, but encouraged to receive program updates. \nThis tour begins in front of the Scott offices (Cunningham House) and ends at the Science Center. \nThe tour will be canceled in the event of inclement weather. \nEmail us if you have accessibility needs for this program.\nFor more information\, review our program and event policies or call the Scott office at 610-328-8025
URL:https://www.scottarboretum.org/calendar/in-person-highlights-tour-january-highlights/
LOCATION:Visit
CATEGORIES:In-person Event,Tours
ATTACH;FMTTYPE=image/jpeg:https://www.scottarboretum.org/wp-content/uploads/2024/11/Jan-Highlights-Tour-600-by-400.jpg
END:VEVENT
BEGIN:VEVENT
DTSTART;TZID=America/New_York:20250126T123000
DTEND;TZID=America/New_York:20250126T133000
DTSTAMP:20260421T172327
CREATED:20241112T204101Z
LAST-MODIFIED:20241112T204101Z
UID:10001308-1737894600-1737898200@www.scottarboretum.org
SUMMARY:In-Person Highlights Tour: January Highlights
DESCRIPTION:Enjoy plants and landscapes looking their best in late January with a tour led by our horticulture staff. Gardeners and plant enthusiasts of all levels are welcome.  \nStay after the tour for the free Walkovic and Schumacher Memorial Lecture where Rob Cardillo will be presenting The Art of Garden Photography. \nThis event is free\, but registration is encouraged to receive program updates.  \n \nProgram Details \n\nRegistration is free\, but encouraged to receive program updates. \nThis tour begins in front of the Scott offices (Cunningham House) and ends at the Science Center. \nThe tour will be canceled in the event of inclement weather. \nEmail us if you have accessibility needs for this program.\nFor more information\, review our program and event policies or call the Scott office at 610-328-8025
URL:https://www.scottarboretum.org/calendar/in-person-highlights-tour-january-highlights-2/
LOCATION:Visit
CATEGORIES:In-person Event,Tours
ATTACH;FMTTYPE=image/jpeg:https://www.scottarboretum.org/wp-content/uploads/2024/11/Jan-Highlights-Tour-600-by-400.jpg
END:VEVENT
END:VCALENDAR