BEGIN:VCALENDAR
VERSION:2.0
PRODID:-//Scott Arboretum &amp; Gardens - ECPv6.9.0//NONSGML v1.0//EN
CALSCALE:GREGORIAN
METHOD:PUBLISH
X-ORIGINAL-URL:https://www.scottarboretum.org
X-WR-CALDESC:Events for Scott Arboretum &amp; Gardens
REFRESH-INTERVAL;VALUE=DURATION:PT1H
X-Robots-Tag:noindex
X-PUBLISHED-TTL:PT1H
BEGIN:VTIMEZONE
TZID:America/New_York
BEGIN:DAYLIGHT
TZOFFSETFROM:-0500
TZOFFSETTO:-0400
TZNAME:EDT
DTSTART:20250309T070000
END:DAYLIGHT
BEGIN:STANDARD
TZOFFSETFROM:-0400
TZOFFSETTO:-0500
TZNAME:EST
DTSTART:20251102T060000
END:STANDARD
END:VTIMEZONE
BEGIN:VEVENT
DTSTART;TZID=America/New_York:20250215T133000
DTEND;TZID=America/New_York:20250215T150000
DTSTAMP:20260421T155858
CREATED:20241112T211654Z
LAST-MODIFIED:20241222T054247Z
UID:10001058-1739626200-1739631600@www.scottarboretum.org
SUMMARY:Crum Woods Winter Hike
DESCRIPTION:Come experience what the Crum Woods has to offer in the winter. Delight in the colors of the holly berries\, listen to the babbling creek\, and take a deep breath as you enjoy a meditative moment in the woods. Our Crum Woods hike will be led by a horticulturist on staff who can answer your plant questions and provide you with a rich wealth of knowledge during your tour.  \nWe recommend this hike for adults and children ages 8 and up. All children must be accompanied by an adult. \nAccessibility:  \n\nThis program is not wheelchair or stroller accessible.\nParticipants must be able to hike on unpaved\, hilly surfaces for about 2 miles\, with exposed roots and rocks. There is a brief\, uphill walk from the parking area to the departure location.\nEmail us if you have other accessibility needs for this program.\nPlease note this tour has a different departure location than other tours.\n \n\nThis event is free\, but registration is encouraged to receive program updates.  \n\nRegister Now\n\nProgram Details \n\nThis tour will depart from the front of the Matchbox building.\nPlease park in the Field House Parking Lot and walk to the departure location\, following Arboretum logo signs.\nThe tour will be canceled in the event of inclement weather. \nEmail us  if you have accessibility needs for this program.\nFor more information\, review our program and event policies or call the Scott office at 610-328-8025
URL:https://www.scottarboretum.org/calendar/crum-woods-winter-hike/
LOCATION:PA
CATEGORIES:In-person Event,Tours
ATTACH;FMTTYPE=image/jpeg:https://www.scottarboretum.org/wp-content/uploads/2024/11/Winter-Crum-Woods-Hike-600-by-400.jpg
END:VEVENT
BEGIN:VEVENT
DTSTART;TZID=America/New_York:20250215T133000
DTEND;TZID=America/New_York:20250215T150000
DTSTAMP:20260421T155858
CREATED:20241112T211654Z
LAST-MODIFIED:20241112T211654Z
UID:10001320-1739626200-1739631600@www.scottarboretum.org
SUMMARY:Crum Woods Winter Hike
DESCRIPTION:Come experience what the Crum Woods has to offer in the winter. Delight in the colors of the holly berries\, listen to the babbling creek\, and take a deep breath as you enjoy a meditative moment in the woods. Our Crum Woods hike will be led by a horticulturist on staff who can answer your plant questions and provide you with a rich wealth of knowledge during your tour.  \nWe recommend this hike for adults and children ages 8 and up. All children must be accompanied by an adult. \nAccessibility:  \n\nThis program is not wheelchair or stroller accessible.\nParticipants must be able to hike on unpaved\, hilly surfaces for about 2 miles\, with exposed roots and rocks. There is a brief\, uphill walk from the parking area to the departure location.\nEmail us if you have other accessibility needs for this program.\nPlease note this tour has a different departure location than other tours.\n \n\nThis event is free\, but registration is encouraged to receive program updates.  \n \nProgram Details \n\nThis tour will depart from the front of the Matchbox building.\nPlease park in the Field House Parking Lot and walk to the departure location\, following Arboretum logo signs.\nThe tour will be canceled in the event of inclement weather. \nEmail us  if you have accessibility needs for this program.\nFor more information\, review our program and event policies or call the Scott office at 610-328-8025
URL:https://www.scottarboretum.org/calendar/crum-woods-winter-hike-2/
LOCATION:PA
CATEGORIES:In-person Event,Tours
ATTACH;FMTTYPE=image/jpeg:https://www.scottarboretum.org/wp-content/uploads/2024/11/Winter-Crum-Woods-Hike-600-by-400.jpg
END:VEVENT
END:VCALENDAR