BEGIN:VCALENDAR
VERSION:2.0
PRODID:-//Scott Arboretum &amp; Gardens - ECPv6.9.0//NONSGML v1.0//EN
CALSCALE:GREGORIAN
METHOD:PUBLISH
X-WR-CALNAME:Scott Arboretum &amp; Gardens
X-ORIGINAL-URL:https://www.scottarboretum.org
X-WR-CALDESC:Events for Scott Arboretum &amp; Gardens
REFRESH-INTERVAL;VALUE=DURATION:PT1H
X-Robots-Tag:noindex
X-PUBLISHED-TTL:PT1H
BEGIN:VTIMEZONE
TZID:America/New_York
BEGIN:DAYLIGHT
TZOFFSETFROM:-0500
TZOFFSETTO:-0400
TZNAME:EDT
DTSTART:20250309T070000
END:DAYLIGHT
BEGIN:STANDARD
TZOFFSETFROM:-0400
TZOFFSETTO:-0500
TZNAME:EST
DTSTART:20251102T060000
END:STANDARD
END:VTIMEZONE
BEGIN:VEVENT
DTSTART;TZID=America/New_York:20250711T100000
DTEND;TZID=America/New_York:20250711T110000
DTSTAMP:20260421T085134
CREATED:20250430T123115Z
LAST-MODIFIED:20250529T145337Z
UID:10001338-1752228000-1752231600@www.scottarboretum.org
SUMMARY:In-Person July Highlights Tour
DESCRIPTION:Enjoy a morning stroll through the gardens to learn about plants blooming in July and the landscape around Singer Hall with a tour led by our horticulture staff. Gardeners and plant enthusiasts of all levels are welcome.  \nRegister Now \nProgram Details \n\nThis event is free\, but registration is encouraged to receive program updates.\nTours begin in front of the Scott Arboretum & Gardens offices (Cunningham House).\nThe tour will be canceled in the event of inclement weather. \nEmail us if you have accessibility needs for this program.\nFor more information\, review our program and event policies or call the Scott office at 610-328-8025
URL:https://www.scottarboretum.org/calendar/in-person-july-highlights-tour/
LOCATION:Visit
CATEGORIES:In-person Event,Tours
ATTACH;FMTTYPE=image/jpeg:https://www.scottarboretum.org/wp-content/uploads/2025/04/July-highlights-tour-600-by-400.jpg
END:VEVENT
END:VCALENDAR