BEGIN:VCALENDAR
VERSION:2.0
PRODID:-//Scott Arboretum &amp; Gardens - ECPv6.9.0//NONSGML v1.0//EN
CALSCALE:GREGORIAN
METHOD:PUBLISH
X-WR-CALNAME:Scott Arboretum &amp; Gardens
X-ORIGINAL-URL:https://www.scottarboretum.org
X-WR-CALDESC:Events for Scott Arboretum &amp; Gardens
REFRESH-INTERVAL;VALUE=DURATION:PT1H
X-Robots-Tag:noindex
X-PUBLISHED-TTL:PT1H
BEGIN:VTIMEZONE
TZID:America/New_York
BEGIN:DAYLIGHT
TZOFFSETFROM:-0500
TZOFFSETTO:-0400
TZNAME:EDT
DTSTART:20250309T070000
END:DAYLIGHT
BEGIN:STANDARD
TZOFFSETFROM:-0400
TZOFFSETTO:-0500
TZNAME:EST
DTSTART:20251102T060000
END:STANDARD
END:VTIMEZONE
BEGIN:VEVENT
DTSTART;TZID=America/New_York:20250712T103000
DTEND;TZID=America/New_York:20250712T120000
DTSTAMP:20260421T085134
CREATED:20250430T124012Z
LAST-MODIFIED:20250709T133350Z
UID:10001340-1752316200-1752321600@www.scottarboretum.org
SUMMARY:Summer Crum Woods Hike
DESCRIPTION:Join us for a refreshing summer hike through the beautiful Crum Woods! This guided hike is the perfect opportunity to explore the lush greenery\, shaded trails\, and scenic views of this hidden gem. Along the way\, we’ll discover native plants\, listen to birdsong\, and maybe even spot some woodland wildlife. Whether you’re a seasoned hiker or a first-time explorer\, this is a great way to connect with nature and enjoy the beauty of July in the woods! We recommend this hike for adults and children ages 5 and up. All children must be accompanied by an adult. \nRegister Now \nAccessibility:  \n\nThis program is not wheelchair or stroller accessible.\nParticipants must be able to hike on unpaved\, hilly surfaces for about 2 miles\, with exposed roots and rocks. There is a brief\, uphill walk from the parking area to the departure location.\nEmail us  if you have other accessibility needs for this program.\nPlease note this tour has a different departure location than other tours.  \n\nProgram Details \n\nThis event is free\, but registration is encouraged to receive program updates. \nThis tour will depart from the front of the Matchbox building.\nPlease park in the Field House Parking Lot and walk to the departure location\, following Arboretum logo signs.\nThe tour will be canceled in the event of inclement weather. \nFor more information\, review our program and event policies or call the Scott office at 610-328-8025
URL:https://www.scottarboretum.org/calendar/summer-crum-woods-hike/
LOCATION:PA
CATEGORIES:In-person Event,Tours
ATTACH;FMTTYPE=image/jpeg:https://www.scottarboretum.org/wp-content/uploads/2025/04/Summer-Crum-Wood-Hike-600-by-400.jpg
END:VEVENT
END:VCALENDAR