BEGIN:VCALENDAR
VERSION:2.0
PRODID:-//Scott Arboretum &amp; Gardens - ECPv6.9.0//NONSGML v1.0//EN
CALSCALE:GREGORIAN
METHOD:PUBLISH
X-ORIGINAL-URL:https://www.scottarboretum.org
X-WR-CALDESC:Events for Scott Arboretum &amp; Gardens
REFRESH-INTERVAL;VALUE=DURATION:PT1H
X-Robots-Tag:noindex
X-PUBLISHED-TTL:PT1H
BEGIN:VTIMEZONE
TZID:America/Detroit
BEGIN:DAYLIGHT
TZOFFSETFROM:-0500
TZOFFSETTO:-0400
TZNAME:EDT
DTSTART:20260308T070000
END:DAYLIGHT
BEGIN:STANDARD
TZOFFSETFROM:-0400
TZOFFSETTO:-0500
TZNAME:EST
DTSTART:20261101T060000
END:STANDARD
END:VTIMEZONE
BEGIN:VEVENT
DTSTART;TZID=America/Detroit:20260320T120000
DTEND;TZID=America/Detroit:20260320T130000
DTSTAMP:20260420T213044
CREATED:20260206T205633Z
LAST-MODIFIED:20260206T205633Z
UID:10001592-1774008000-1774011600@www.scottarboretum.org
SUMMARY:In-Person Highlights Tour: First Day of Spring
DESCRIPTION:Take your lunch break on the first day of spring to witness wonderful bulbs blooming in the garden along with other late-March garden highlights. Horticulture staff will guide you through the gardens on this tour. Gardeners and plant enthusiasts of all levels are welcome. \nRegister Now \nProgram Details \n\nThis event is free\, but registration is encouraged to receive program updates.\nTours begin in front of the Scott Arboretum offices (Cunningham House).\nThe tour will be canceled in the event of inclement weather. \nEmail us if you have accessibility needs for this program.\nFor more information\, review our program and event policies or call the Scott Arboretum office at 610-328-8025
URL:https://www.scottarboretum.org/calendar/in-person-highlights-tour-first-day-of-spring/
LOCATION:Scott Arboretum Offices\, 500 College Ave.\, Swarthmore\, PA\, United States
CATEGORIES:In-person Event,Tours
ATTACH;FMTTYPE=image/jpeg:https://www.scottarboretum.org/wp-content/uploads/2026/02/First-Day-of-Spring-Tour-magnolia-600-by-400.jpg
END:VEVENT
END:VCALENDAR