BEGIN:VCALENDAR
VERSION:2.0
PRODID:-//Scott Arboretum &amp; Gardens - ECPv6.9.0//NONSGML v1.0//EN
CALSCALE:GREGORIAN
METHOD:PUBLISH
X-WR-CALNAME:Scott Arboretum &amp; Gardens
X-ORIGINAL-URL:https://www.scottarboretum.org
X-WR-CALDESC:Events for Scott Arboretum &amp; Gardens
REFRESH-INTERVAL;VALUE=DURATION:PT1H
X-Robots-Tag:noindex
X-PUBLISHED-TTL:PT1H
BEGIN:VTIMEZONE
TZID:America/Detroit
BEGIN:DAYLIGHT
TZOFFSETFROM:-0500
TZOFFSETTO:-0400
TZNAME:EDT
DTSTART:20260308T070000
END:DAYLIGHT
BEGIN:STANDARD
TZOFFSETFROM:-0400
TZOFFSETTO:-0500
TZNAME:EST
DTSTART:20261101T060000
END:STANDARD
END:VTIMEZONE
BEGIN:VEVENT
DTSTART;TZID=America/Detroit:20260411T100000
DTEND;TZID=America/Detroit:20260411T110000
DTSTAMP:20260420T200251
CREATED:20260206T211923Z
LAST-MODIFIED:20260211T141423Z
UID:10001599-1775901600-1775905200@www.scottarboretum.org
SUMMARY:Dog-Friendly Walking Tour
DESCRIPTION:Bring your favorite leashed pup(s) for a dog-friendly walk led by our horticulture staff. This tour will feature blooming dogwoods\, beautiful scenery\, and a relaxed\, leashed stroll perfect for enjoying springtime with your furry friends. \nRegister Now \nProgram Details \n\nThis event is free\, but registration is encouraged to receive program updates.\nTours begin in front of the Scott Arboretum offices (Cunningham House).\nThe tour will be canceled in the event of inclement weather. \nPets must be on a leash at all times to be in compliance with Swarthmore Ordinance 949.608.02.  \nEmail us if you have accessibility needs for this program.\nFor more information\, review our program and event policies or call the Scott Arboretum office at 610-328-8025.
URL:https://www.scottarboretum.org/calendar/dog-friendly-walking-tour/
LOCATION:Scott Arboretum Offices\, 500 College Ave.\, Swarthmore\, PA\, United States
CATEGORIES:In-person Event,Tours
ATTACH;FMTTYPE=image/jpeg:https://www.scottarboretum.org/wp-content/uploads/2026/02/Dog-Friendly-Walking-tour-600-by-400.jpg
END:VEVENT
END:VCALENDAR