BEGIN:VCALENDAR
VERSION:2.0
PRODID:-//Scott Arboretum &amp; Gardens - ECPv6.9.0//NONSGML v1.0//EN
CALSCALE:GREGORIAN
METHOD:PUBLISH
X-ORIGINAL-URL:https://www.scottarboretum.org
X-WR-CALDESC:Events for Scott Arboretum &amp; Gardens
REFRESH-INTERVAL;VALUE=DURATION:PT1H
X-Robots-Tag:noindex
X-PUBLISHED-TTL:PT1H
BEGIN:VTIMEZONE
TZID:America/New_York
BEGIN:DAYLIGHT
TZOFFSETFROM:-0500
TZOFFSETTO:-0400
TZNAME:EDT
DTSTART:20250309T070000
END:DAYLIGHT
BEGIN:STANDARD
TZOFFSETFROM:-0400
TZOFFSETTO:-0500
TZNAME:EST
DTSTART:20251102T060000
END:STANDARD
END:VTIMEZONE
BEGIN:VEVENT
DTSTART;TZID=America/New_York:20250108T173000
DTEND;TZID=America/New_York:20250108T183000
DTSTAMP:20260421T212949
CREATED:20241112T202350Z
LAST-MODIFIED:20241112T202350Z
UID:10001298-1736357400-1736361000@www.scottarboretum.org
SUMMARY:Nature’s Narratives: Smoke and Ashes: Opium's Hidden Histories
DESCRIPTION:Nature’s Narratives is the monthly book discussion group for Scott Arboretum & Gardens. Join fellow garden enthusiasts and book lovers to discuss books about plants\, nature\, and the environment. \nAuthor Amitav Ghosh traces the horticultural\, cultural\, economic\, and social history of opium in this part memoir\, part history book. \nParticipants are encouraged\, but not required\, to read each month’s selection prior to the discussion. Discussions are led by horticulturist and book-lover Elizabeth Haegele and participants are welcome to share or simply listen. \nRegistration is free\, but required to receive the Zoom meeting link. \n \nProgram Details \n\nRegistration is free\, but required to receive the Zoom meeting link.\nThe meeting link will be included in the confirmation email received after registering online.\nParticipants must download Zoom.\nEmail us  if you have accessibility needs for this program.\nFor more information\, review our program and event policies or call the Scott office at 610-328-8025. 
URL:https://www.scottarboretum.org/calendar/natures-narratives-smoke-and-ashes-opiums-hidden-histories/
LOCATION:PA
CATEGORIES:Nature’s Narratives,Virtual Events
ATTACH;FMTTYPE=image/jpeg:https://www.scottarboretum.org/wp-content/uploads/2024/08/Nature_s-Narratives-600-by-400.jpg
END:VEVENT
BEGIN:VEVENT
DTSTART;TZID=America/New_York:20250121T120000
DTEND;TZID=America/New_York:20250121T123000
DTSTAMP:20260421T212949
CREATED:20241106T150906Z
LAST-MODIFIED:20241222T044639Z
UID:10001002-1737460800-1737462600@www.scottarboretum.org
SUMMARY:Virtual Lunchtime Tour: The Pinetum Part 2
DESCRIPTION:Take your lunch break virtually and explore the wonders of the beautiful Pinetum at Scott Arboretum & Gardens. This virtual tour will include highlights beyond the first Pinetum virtual tour in 2024. Tune in on our YouTube channel.
URL:https://www.scottarboretum.org/calendar/virtual-lunchtime-tour-the-pinetum-part-2/
LOCATION:PA
CATEGORIES:Tours,Virtual Events
ATTACH;FMTTYPE=image/jpeg:https://www.scottarboretum.org/wp-content/uploads/2024/11/Lunchtime-Tour-Pinetum-600-by-400.jpg
END:VEVENT
BEGIN:VEVENT
DTSTART;TZID=America/New_York:20250121T120000
DTEND;TZID=America/New_York:20250121T123000
DTSTAMP:20260421T212949
CREATED:20241106T150906Z
LAST-MODIFIED:20241106T150906Z
UID:10001297-1737460800-1737462600@www.scottarboretum.org
SUMMARY:Virtual Lunchtime Tour: The Pinetum Part 2
DESCRIPTION:Take your lunch break virtually and explore the wonders of the beautiful Pinetum at Scott Arboretum & Gardens. This virtual tour will include highlights beyond the first Pinetum virtual tour in 2024. Tune in on our YouTube channel.
URL:https://www.scottarboretum.org/calendar/virtual-lunchtime-tour-the-pinetum-part-2-2/
LOCATION:PA
CATEGORIES:Tours,Virtual Events
ATTACH;FMTTYPE=image/jpeg:https://www.scottarboretum.org/wp-content/uploads/2024/11/Lunchtime-Tour-Pinetum-600-by-400.jpg
END:VEVENT
BEGIN:VEVENT
DTSTART;TZID=America/New_York:20250123T120000
DTEND;TZID=America/New_York:20250123T130000
DTSTAMP:20260421T212949
CREATED:20241112T203726Z
LAST-MODIFIED:20241222T045042Z
UID:10001041-1737633600-1737637200@www.scottarboretum.org
SUMMARY:Travels @ 12: A Trip to Portugal: Exploring the Wild and Tamed
DESCRIPTION:Join Abi Urena to experience the highlights of her eight-day trip to Portugal as a Longwood Gardens Professional Horticulture student. The Class of 2024 focused on studying the natural growth of Mediterranean plants in relatively wild environments. Visit national parks\, restorations\, and formal gardens across Madeira\, Porto\, and Lisbon.  \nTravels @ 12 is an online series for plant enthusiasts to vicariously experience gardens and natural spaces throughout the world.  \nRegistration is free\, but required to receive the Zoom webinar and recording links. \nRegister Now\nProgram Details \n\nThe webinar link will be included in the confirmation email received after registering online.\nRecording link will be available 2 days after the webinar and accessible for 2 weeks after the presentation.\nParticipants must download Zoom.\nEmail us if you have accessibility needs for this program.\nFor more information\, review our program and event policies  or call the Scott office at 610-328-8025. \n\n  \nAbout the Presenter \nAbigail Urena joined Scott Arboretum & Gardens’ horticulture team as a Gardener in July 2024 after she graduated from the professional horticulture program at Longwood Gardens. Prior to entering the Longwood student program\, she worked at Reeves Reed Arboretum in Summit\, N.J.\, as a seasonal garden assistant and at Blue in Green Gardens in New York where she installed and maintained gardens in the city. She holds a B.S. in public health\, magna cum laude\, from William Paterson University in Wayne\, N.J. Her focus in public health centered on the relationship between the natural environment and human well-being.
URL:https://www.scottarboretum.org/calendar/travels-12-a-trip-to-portugal-exploring-the-wild-and-tamed/
LOCATION:PA
CATEGORIES:Travels at Twelve,Virtual Events
ATTACH;FMTTYPE=image/jpeg:https://www.scottarboretum.org/wp-content/uploads/2024/11/Travels-at-12-Portugal-600-by-400.jpg
END:VEVENT
BEGIN:VEVENT
DTSTART;TZID=America/New_York:20250123T120000
DTEND;TZID=America/New_York:20250123T130000
DTSTAMP:20260421T212949
CREATED:20241112T203726Z
LAST-MODIFIED:20241112T203726Z
UID:10001307-1737633600-1737637200@www.scottarboretum.org
SUMMARY:Travels @ 12: A Trip to Portugal: Exploring the Wild and Tamed
DESCRIPTION:Join Abi Urena to experience the highlights of her eight-day trip to Portugal as a Longwood Gardens Professional Horticulture student. The Class of 2024 focused on studying the natural growth of Mediterranean plants in relatively wild environments. Visit national parks\, restorations\, and formal gardens across Madeira\, Porto\, and Lisbon.  \nTravels @ 12 is an online series for plant enthusiasts to vicariously experience gardens and natural spaces throughout the world.  \nRegistration is free\, but required to receive the Zoom webinar and recording links. \n \nProgram Details \n\nThe webinar link will be included in the confirmation email received after registering online.\nRecording link will be available 2 days after the webinar and accessible for 2 weeks after the presentation.\nParticipants must download Zoom.\nEmail us if you have accessibility needs for this program.\nFor more information\, review our program and event policies  or call the Scott office at 610-328-8025. \n\n  \nAbout the Presenter \nAbigail Urena joined Scott Arboretum & Gardens’ horticulture team as a Gardener in July 2024 after she graduated from the professional horticulture program at Longwood Gardens. Prior to entering the Longwood student program\, she worked at Reeves Reed Arboretum in Summit\, N.J.\, as a seasonal garden assistant and at Blue in Green Gardens in New York where she installed and maintained gardens in the city. She holds a B.S. in public health\, magna cum laude\, from William Paterson University in Wayne\, N.J. Her focus in public health centered on the relationship between the natural environment and human well-being.
URL:https://www.scottarboretum.org/calendar/travels-12-a-trip-to-portugal-exploring-the-wild-and-tamed-2/
LOCATION:PA
CATEGORIES:Travels at Twelve,Virtual Events
ATTACH;FMTTYPE=image/jpeg:https://www.scottarboretum.org/wp-content/uploads/2024/11/Travels-at-12-Portugal-600-by-400.jpg
END:VEVENT
BEGIN:VEVENT
DTSTART;TZID=America/New_York:20250126T140000
DTEND;TZID=America/New_York:20250126T153000
DTSTAMP:20260421T212949
CREATED:20241112T214512Z
LAST-MODIFIED:20241222T050357Z
UID:10001057-1737900000-1737905400@www.scottarboretum.org
SUMMARY:Walkovic & Schumacher Memorial Lecture: The Art of Garden Photography
DESCRIPTION:Join professional garden photographer Rob Cardillo as he illustrates how he crafts sweeping landscapes and compelling plant closeups through a series of engaging stories. \nUsing examples from his many books and magazine projects (including his most recent work\, Private Gardens of Philadelphia)\, Rob will show how he doesn’t always get it right the first time and how perseverance and patience pay off in the end. \nYou’ll leave with new ideas and new techniques to help you find and translate your own vision of Eden\, even if you only use a smartphone. \nCo-sponsored with the Hardy Plant Society/Mid-Atlantic Group. Virtual and in-person options available. \n\n\nRegister Now for In-person\nRegister Now for Virtual\nProgram Details \n\nAll registrations include access to the recording. \nIn-person registration is limited to 190. Due to limited seating\, virtual participants cannot attend in person. \nVirtual registrants will be able to view the recording shortly after the presentation concludes and can ask the speaker questions by emailing scott@swarthmore.edu in advance.\nRegistration is free\, but required to receive the presentation recording link.\nEmail us if you have accessibility needs for this program.\nFor more information\, review our program and event policies or call the Scott office at 610-328-8025. \n\nAbout the Presenter \nRob Cardillo has been photographing gardens\, plants and the people who love them for nearly thirty years. He’s been credited as the primary photographer for over twenty-five books including  Private Edens\, Private Gardens of South Florida\, The Art of Gardening at Chanticleer\, The Layered Garden\, Chasing Eden\, and his most recent work Private Gardens of Philadelphia.  Rob’s work is also seen in publications such as Gardens Illustrated\, Garden Gate\, Flower and The New York Times. Along with his Blue Root Media partners\, Rob provides editorial content for an award-winning regional gardening magazine\, GROW\, published quarterly by the venerable Pennsylvania Horticultural Society.  Winner of numerous photography awards\, Rob was inducted into the Garden Writer’s Association Hall of Fame in 2015.  \nRob lives and gardens in Ambler where he grows a little bit of everything in drifts of one.
URL:https://www.scottarboretum.org/calendar/walkovic-schumacher-memorial-lecture-the-art-of-garden-photography/
LOCATION:PA
CATEGORIES:In-person Event,Lectures,Virtual Events
ATTACH;FMTTYPE=image/jpeg:https://www.scottarboretum.org/wp-content/uploads/2024/11/Rob-Cardillo-RCP_600-by-400.jpg
END:VEVENT
BEGIN:VEVENT
DTSTART;TZID=America/New_York:20250126T140000
DTEND;TZID=America/New_York:20250126T153000
DTSTAMP:20260421T212949
CREATED:20241112T214512Z
LAST-MODIFIED:20241112T214512Z
UID:10001318-1737900000-1737905400@www.scottarboretum.org
SUMMARY:Walkovic & Schumacher Memorial Lecture: The Art of Garden Photography
DESCRIPTION:Join professional garden photographer Rob Cardillo as he illustrates how he crafts sweeping landscapes and compelling plant closeups through a series of engaging stories. \nUsing examples from his many books and magazine projects (including his most recent work\, Private Gardens of Philadelphia)\, Rob will show how he doesn’t always get it right the first time and how perseverance and patience pay off in the end. \nYou’ll leave with new ideas and new techniques to help you find and translate your own vision of Eden\, even if you only use a smartphone. \nCo-sponsored with the Hardy Plant Society/Mid-Atlantic Group. Virtual and in-person options available. \nIn-person registration is sold out. \n\nProgram Details \n\nThis program will not be recorded as requested by the presenter.\nAll registrations include access to the virtual live presentation.\nIn-person registration is limited to 190 and is sold out. Due to limited seating\, virtual participants cannot attend in person.\nVirtual registrants will receive the Zoom link to watch the presentation in live time.\nRegistration is free\, but required to receive the presentation link.\nEmail us if you have accessibility needs for this program.\nFor more information\, review our program and event policies or call the Scott office at 610-328-8025. \n\nAbout the Presenter \nRob Cardillo has been photographing gardens\, plants and the people who love them for nearly thirty years. He’s been credited as the primary photographer for over twenty-five books including  Private Edens\, Private Gardens of South Florida\, The Art of Gardening at Chanticleer\, The Layered Garden\, Chasing Eden\, and his most recent work Private Gardens of Philadelphia.  Rob’s work is also seen in publications such as Gardens Illustrated\, Garden Gate\, Flower and The New York Times. Along with his Blue Root Media partners\, Rob provides editorial content for an award-winning regional gardening magazine\, GROW\, published quarterly by the venerable Pennsylvania Horticultural Society.  Winner of numerous photography awards\, Rob was inducted into the Garden Writer’s Association Hall of Fame in 2015.  \nRob lives and gardens in Ambler where he grows a little bit of everything in drifts of one.
URL:https://www.scottarboretum.org/calendar/walkovic-schumacher-memorial-lecture-the-art-of-garden-photography-2/
LOCATION:PA
CATEGORIES:In-person Event,Lectures,Virtual Events
ATTACH;FMTTYPE=image/jpeg:https://www.scottarboretum.org/wp-content/uploads/2024/11/Rob-Cardillo-RCP_600-by-400.jpg
END:VEVENT
BEGIN:VEVENT
DTSTART;TZID=America/New_York:20250130T120000
DTEND;TZID=America/New_York:20250130T130000
DTSTAMP:20260421T212949
CREATED:20241112T204419Z
LAST-MODIFIED:20241222T050634Z
UID:10001043-1738238400-1738242000@www.scottarboretum.org
SUMMARY:Travels @ 12: Gardens and Clematis in the Loire Valley of France
DESCRIPTION:Experience gardens\, chateaus\, and glorious clematis as Scott Arboretum & Gardens’ Director of Grounds and Coordinator of Horticulture Jeff Jabco recounts the International Clematis Society’s trip in June 2024. \nTravels @ 12 is an online series for plant enthusiasts to vicariously experience gardens and natural spaces throughout the world.  \nRegistration is free\, but required to receive the Zoom webinar and recording links. \n\nRegister Now\n\nProgram Details \n\nThe webinar link will be included in the confirmation email received after registering online.\nRecording link will be available 2 days after the webinar and accessible for 2 weeks after the presentation.\nParticipants must download Zoom.\nEmail us if you have accessibility needs for this program.\nFor more information\, review our program and event policies or call the Scott office at 610-328-8025. \n\n  \nAbout the Presenter \nJeff Jabco\, Director of Grounds and Coordinator of Horticulture\, has been on staff since 1990. Before coming to Swarthmore\, he worked for Penn State University Cooperative Extension as a horticulture agent in southeastern Pennsylvania; he also owned and operated a garden design and vegetable production business. He is a graduate of Penn State University with a master’s degree from North Carolina State University in Horticulture/Plant Breeding and Plant Pathology.
URL:https://www.scottarboretum.org/calendar/travels-12-gardens-and-clematis-in-the-loire-valley-of-france/
LOCATION:PA
CATEGORIES:Travels at Twelve,Virtual Events
ATTACH;FMTTYPE=image/jpeg:https://www.scottarboretum.org/wp-content/uploads/2024/11/Travels-@-12-France-2-600-by-400.jpg
END:VEVENT
BEGIN:VEVENT
DTSTART;TZID=America/New_York:20250130T120000
DTEND;TZID=America/New_York:20250130T130000
DTSTAMP:20260421T212949
CREATED:20241112T204419Z
LAST-MODIFIED:20241112T204419Z
UID:10001309-1738238400-1738242000@www.scottarboretum.org
SUMMARY:Travels @ 12: Gardens and Clematis in the Loire Valley of France
DESCRIPTION:Experience gardens\, chateaus\, and glorious clematis as Scott Arboretum & Gardens’ Director of Grounds and Coordinator of Horticulture Jeff Jabco recounts the International Clematis Society’s trip in June 2024. \nTravels @ 12 is an online series for plant enthusiasts to vicariously experience gardens and natural spaces throughout the world.  \nRegistration is free\, but required to receive the Zoom webinar and recording links. \n \nProgram Details \n\nThe webinar link will be included in the confirmation email received after registering online.\nRecording link will be available 2 days after the webinar and accessible for 2 weeks after the presentation.\nParticipants must download Zoom.\nEmail us if you have accessibility needs for this program.\nFor more information\, review our program and event policies or call the Scott office at 610-328-8025. \n\n  \nAbout the Presenter \nJeff Jabco\, Director of Grounds and Coordinator of Horticulture\, has been on staff since 1990. Before coming to Swarthmore\, he worked for Penn State University Cooperative Extension as a horticulture agent in southeastern Pennsylvania; he also owned and operated a garden design and vegetable production business. He is a graduate of Penn State University with a master’s degree from North Carolina State University in Horticulture/Plant Breeding and Plant Pathology.
URL:https://www.scottarboretum.org/calendar/travels-12-gardens-and-clematis-in-the-loire-valley-of-france-2/
LOCATION:PA
CATEGORIES:Travels at Twelve,Virtual Events
ATTACH;FMTTYPE=image/jpeg:https://www.scottarboretum.org/wp-content/uploads/2024/11/Travels-@-12-France-2-600-by-400.jpg
END:VEVENT
END:VCALENDAR