BEGIN:VCALENDAR
VERSION:2.0
PRODID:-//Scott Arboretum &amp; Gardens - ECPv6.9.0//NONSGML v1.0//EN
CALSCALE:GREGORIAN
METHOD:PUBLISH
X-WR-CALNAME:Scott Arboretum &amp; Gardens
X-ORIGINAL-URL:https://www.scottarboretum.org
X-WR-CALDESC:Events for Scott Arboretum &amp; Gardens
REFRESH-INTERVAL;VALUE=DURATION:PT1H
X-Robots-Tag:noindex
X-PUBLISHED-TTL:PT1H
BEGIN:VTIMEZONE
TZID:America/Detroit
BEGIN:DAYLIGHT
TZOFFSETFROM:-0500
TZOFFSETTO:-0400
TZNAME:EDT
DTSTART:20250309T070000
END:DAYLIGHT
BEGIN:STANDARD
TZOFFSETFROM:-0400
TZOFFSETTO:-0500
TZNAME:EST
DTSTART:20251102T060000
END:STANDARD
END:VTIMEZONE
BEGIN:VEVENT
DTSTART;TZID=America/Detroit:20250422T120000
DTEND;TZID=America/Detroit:20250422T123000
DTSTAMP:20260421T170315
CREATED:20250306T213149Z
LAST-MODIFIED:20250306T213253Z
UID:10001092-1745323200-1745325000@www.scottarboretum.org
SUMMARY:Virtual Lunchtime Tour: Glade Garden
DESCRIPTION:Take your lunch break virtually this Earth Day and explore the beauty of the Glade Garden. The Glade Garden was designed to better connect\, both visually and physically\, the academic areas of the campus to the Crum Woods. The mosaic of native wildflowers\, groundcovers\, small trees\, and shrubs makes this an enchanting garden in the spring.  \nTune in on our YouTube channel.
URL:https://www.scottarboretum.org/calendar/virtual-lunchtime-tour-glade-garden/
LOCATION:https://www.scottarboretum.org/calendar/virtual-lunchtime-tour-glade-garden/
CATEGORIES:Tours,Virtual Events
ATTACH;FMTTYPE=image/jpeg:https://www.scottarboretum.org/wp-content/uploads/2025/03/Lunchtime-Tour-April-Highlights-600-by-400.jpg
END:VEVENT
END:VCALENDAR