BEGIN:VCALENDAR
VERSION:2.0
PRODID:-//Scott Arboretum &amp; Gardens - ECPv6.9.0//NONSGML v1.0//EN
CALSCALE:GREGORIAN
METHOD:PUBLISH
X-WR-CALNAME:Scott Arboretum &amp; Gardens
X-ORIGINAL-URL:https://www.scottarboretum.org
X-WR-CALDESC:Events for Scott Arboretum &amp; Gardens
REFRESH-INTERVAL;VALUE=DURATION:PT1H
X-Robots-Tag:noindex
X-PUBLISHED-TTL:PT1H
BEGIN:VTIMEZONE
TZID:America/Detroit
BEGIN:DAYLIGHT
TZOFFSETFROM:-0500
TZOFFSETTO:-0400
TZNAME:EDT
DTSTART:20250309T070000
END:DAYLIGHT
BEGIN:STANDARD
TZOFFSETFROM:-0400
TZOFFSETTO:-0500
TZNAME:EST
DTSTART:20251102T060000
END:STANDARD
END:VTIMEZONE
BEGIN:VEVENT
DTSTART;TZID=America/Detroit:20250325T120000
DTEND;TZID=America/Detroit:20250325T123000
DTSTAMP:20260421T195311
CREATED:20250306T205043Z
LAST-MODIFIED:20250306T205210Z
UID:10001084-1742904000-1742905800@www.scottarboretum.org
SUMMARY:Virtual Lunchtime Tour: The Wister Garden
DESCRIPTION:Take your lunch break virtually and explore the beauty of the Wister Garden\, a woodland garden surrounding the former home of Gertrude and John C. Wister\, the Arboretum’s first assistant director and director\, respectively. The garden features sweeps of early spring blooming plants and rhododendrons. Narrow winding paths lead around the gently sloping plantings and connect to the Crum Woods trails. \nTune in on our YouTube channel.
URL:https://www.scottarboretum.org/calendar/virtual-lunchtime-tour-the-wister-garden/
LOCATION:https://www.scottarboretum.org/calendar/virtual-lunchtime-tour-the-wister-garden/
CATEGORIES:Tours,Virtual Events
ATTACH;FMTTYPE=image/jpeg:https://www.scottarboretum.org/wp-content/uploads/2025/03/lunchtime-Tour-Wister-garden-600-by-400.jpg
END:VEVENT
END:VCALENDAR