BEGIN:VCALENDAR
VERSION:2.0
PRODID:-//Scott Arboretum &amp; Gardens - ECPv6.9.0//NONSGML v1.0//EN
CALSCALE:GREGORIAN
METHOD:PUBLISH
X-ORIGINAL-URL:https://www.scottarboretum.org
X-WR-CALDESC:Events for Scott Arboretum &amp; Gardens
REFRESH-INTERVAL;VALUE=DURATION:PT1H
X-Robots-Tag:noindex
X-PUBLISHED-TTL:PT1H
BEGIN:VTIMEZONE
TZID:America/Detroit
BEGIN:DAYLIGHT
TZOFFSETFROM:-0500
TZOFFSETTO:-0400
TZNAME:EDT
DTSTART:20250309T070000
END:DAYLIGHT
BEGIN:STANDARD
TZOFFSETFROM:-0400
TZOFFSETTO:-0500
TZNAME:EST
DTSTART:20251102T060000
END:STANDARD
END:VTIMEZONE
BEGIN:VEVENT
DTSTART;TZID=America/Detroit:20250520T120000
DTEND;TZID=America/Detroit:20250520T123000
DTSTAMP:20260421T170827
CREATED:20250307T142836Z
LAST-MODIFIED:20250307T142913Z
UID:10001102-1747742400-1747744200@www.scottarboretum.org
SUMMARY:Virtual Lunchtime Tour: Cunningham House Gardens
DESCRIPTION:Take your lunch break virtually and explore the beauty of the gardens surrounding the Cunningham House. Explore the Scott Entrance Garden and the Terry Shane Teaching Garden in all its glory this spring with a guided tour from our horticultural staff.  \nTune in on our YouTube channel.
URL:https://www.scottarboretum.org/calendar/virtual-lunchtime-tour-cunningham-house-gardens/
LOCATION:Virtual Meeting
CATEGORIES:Tours,Virtual Events
ATTACH;FMTTYPE=image/jpeg:https://www.scottarboretum.org/wp-content/uploads/2025/03/Lunchtime-Tour-Cunningham-House-Gardens-600-by-400.jpg
END:VEVENT
END:VCALENDAR